BEGIN:VCALENDAR
VERSION:2.0
PRODID:-//Virginia Horse Center - ECPv6.15.20//NONSGML v1.0//EN
CALSCALE:GREGORIAN
METHOD:PUBLISH
X-ORIGINAL-URL:https://vahorsecenter.org
X-WR-CALDESC:Events for Virginia Horse Center
REFRESH-INTERVAL;VALUE=DURATION:PT1H
X-Robots-Tag:noindex
X-PUBLISHED-TTL:PT1H
BEGIN:VTIMEZONE
TZID:America/New_York
BEGIN:DAYLIGHT
TZOFFSETFROM:-0500
TZOFFSETTO:-0400
TZNAME:EDT
DTSTART:20240310T070000
END:DAYLIGHT
BEGIN:STANDARD
TZOFFSETFROM:-0400
TZOFFSETTO:-0500
TZNAME:EST
DTSTART:20241103T060000
END:STANDARD
BEGIN:DAYLIGHT
TZOFFSETFROM:-0500
TZOFFSETTO:-0400
TZNAME:EDT
DTSTART:20250309T070000
END:DAYLIGHT
BEGIN:STANDARD
TZOFFSETFROM:-0400
TZOFFSETTO:-0500
TZNAME:EST
DTSTART:20251102T060000
END:STANDARD
BEGIN:DAYLIGHT
TZOFFSETFROM:-0500
TZOFFSETTO:-0400
TZNAME:EDT
DTSTART:20260308T070000
END:DAYLIGHT
BEGIN:STANDARD
TZOFFSETFROM:-0400
TZOFFSETTO:-0500
TZNAME:EST
DTSTART:20261101T060000
END:STANDARD
END:VTIMEZONE
BEGIN:VEVENT
DTSTART;VALUE=DATE:20250924
DTEND;VALUE=DATE:20250928
DTSTAMP:20260420T031001
CREATED:20250106T203143Z
LAST-MODIFIED:20250325T203616Z
UID:10000074-1758672000-1759017599@vahorsecenter.org
SUMMARY:ASHAV Horse Show
DESCRIPTION:Event Organizer: Kent Moeller \nPhone: (804) 363-3085 \nEmail \nWebsite
URL:https://vahorsecenter.org/event/ashav-horse-show/
LOCATION:Anderson Coliseum\, 487 Maury River Road\, Lexington\, Virginia\, 24450\, United States
CATEGORIES:2025 Event,Equestrian Event,Saddlebred,September
ORGANIZER;CN="Kent Moeller (ASHAV Horse Show)":MAILTO:kentmoeller@gmail.com
END:VEVENT
BEGIN:VEVENT
DTSTART;TZID=America/New_York:20250927T100000
DTEND;TZID=America/New_York:20250927T140000
DTSTAMP:20260420T031001
CREATED:20250815T035044Z
LAST-MODIFIED:20250822T101844Z
UID:10000122-1758967200-1758981600@vahorsecenter.org
SUMMARY:Open Trail Day
DESCRIPTION:Come ride the approximately 5 miles of trails at the Virginia Horse Center. \n$10 fee to be used for trail improvements at the horse center (cash or check accepted) \nMust provide negative Coggins within 12 months for each horse and sign a waiver. \nIf you want to rent a stall or campsite please call 540-464-2966 VHC Stable Office \nHope to see you on the trail! \nPlease view and sign the required Release and Waiver form
URL:https://vahorsecenter.org/event/open-trail-day/
CATEGORIES:2025 Event,September
END:VEVENT
END:VCALENDAR