BEGIN:VCALENDAR
VERSION:2.0
PRODID:-//Virginia Horse Center - ECPv6.15.20//NONSGML v1.0//EN
CALSCALE:GREGORIAN
METHOD:PUBLISH
X-WR-CALNAME:Virginia Horse Center
X-ORIGINAL-URL:https://vahorsecenter.org
X-WR-CALDESC:Events for Virginia Horse Center
REFRESH-INTERVAL;VALUE=DURATION:PT1H
X-Robots-Tag:noindex
X-PUBLISHED-TTL:PT1H
BEGIN:VTIMEZONE
TZID:America/New_York
BEGIN:DAYLIGHT
TZOFFSETFROM:-0500
TZOFFSETTO:-0400
TZNAME:EDT
DTSTART:20240310T070000
END:DAYLIGHT
BEGIN:STANDARD
TZOFFSETFROM:-0400
TZOFFSETTO:-0500
TZNAME:EST
DTSTART:20241103T060000
END:STANDARD
BEGIN:DAYLIGHT
TZOFFSETFROM:-0500
TZOFFSETTO:-0400
TZNAME:EDT
DTSTART:20250309T070000
END:DAYLIGHT
BEGIN:STANDARD
TZOFFSETFROM:-0400
TZOFFSETTO:-0500
TZNAME:EST
DTSTART:20251102T060000
END:STANDARD
BEGIN:DAYLIGHT
TZOFFSETFROM:-0500
TZOFFSETTO:-0400
TZNAME:EDT
DTSTART:20260308T070000
END:DAYLIGHT
BEGIN:STANDARD
TZOFFSETFROM:-0400
TZOFFSETTO:-0500
TZNAME:EST
DTSTART:20261101T060000
END:STANDARD
END:VTIMEZONE
BEGIN:VEVENT
DTSTART;VALUE=DATE:20250403
DTEND;VALUE=DATE:20250406
DTSTAMP:20260419T215426
CREATED:20250103T191907Z
LAST-MODIFIED:20250325T120225Z
UID:10000031-1743638400-1743897599@vahorsecenter.org
SUMMARY:Great American Ranch and Trail Horse Sale
DESCRIPTION:Download Prize List
URL:https://vahorsecenter.org/event/great-american-ranch-trail-horse-sale/
LOCATION:Anderson Coliseum\, 487 Maury River Road\, Lexington\, Virginia\, 24450\, United States
CATEGORIES:2025 Event,April,Equestrian Event,Western
ORGANIZER;CN="Jackie Turnbull":MAILTO:ga.trailhorse@gmail.com
END:VEVENT
BEGIN:VEVENT
DTSTART;VALUE=DATE:20250411
DTEND;VALUE=DATE:20250413
DTSTAMP:20260419T215426
CREATED:20250103T200040Z
LAST-MODIFIED:20250325T121511Z
UID:10000036-1744329600-1744502399@vahorsecenter.org
SUMMARY:United Professional Horseman's Association (UPHA) Show
DESCRIPTION:Download Prize List
URL:https://vahorsecenter.org/event/united-professional-horsemans-association/
LOCATION:East Complex\, 487 Maury River Rd\, Lexington\, VA\, 24450\, United States
CATEGORIES:2025 Event,April,Equestrian Event,Saddlebred
ORGANIZER;CN="Leslie Melvin":MAILTO:stonebrookfarm@yahoo.com
END:VEVENT
BEGIN:VEVENT
DTSTART;VALUE=DATE:20250412
DTEND;VALUE=DATE:20250413
DTSTAMP:20260419T215426
CREATED:20250103T195444Z
LAST-MODIFIED:20250411T114840Z
UID:10000035-1744416000-1744502399@vahorsecenter.org
SUMMARY:Eventing in Virginia - Jumper Derby & Dressage • April
DESCRIPTION:Download Prize List
URL:https://vahorsecenter.org/event/eventing-jumper-derby-2/
LOCATION:Top of Hill
CATEGORIES:2025 Event,April,Dressage,Equestrian Event,Jumping,Vaulting
ORGANIZER;CN="Gammon Castellvi":MAILTO:gammonlee@gmail.com
END:VEVENT
BEGIN:VEVENT
DTSTART;VALUE=DATE:20250417
DTEND;VALUE=DATE:20250420
DTSTAMP:20260419T215426
CREATED:20250326T224643Z
LAST-MODIFIED:20250326T224659Z
UID:10000103-1744848000-1745107199@vahorsecenter.org
SUMMARY:VQHA Spring Breakout
DESCRIPTION:Download Prize List
URL:https://vahorsecenter.org/event/vqha-spring-breakout/
LOCATION:VHC
CATEGORIES:2025 Event,April,Equestrian Event,Quarter Horse
END:VEVENT
BEGIN:VEVENT
DTSTART;VALUE=DATE:20250430
DTEND;VALUE=DATE:20250505
DTSTAMP:20260419T215426
CREATED:20250327T194919Z
LAST-MODIFIED:20250428T160841Z
UID:10000104-1745971200-1746403199@vahorsecenter.org
SUMMARY:Lexington Spring Encore A - Festival of Champions
DESCRIPTION:Download Prize List
URL:https://vahorsecenter.org/event/lexington-spring-encore-a-festival-of-champions-2/
LOCATION:VHC
CATEGORIES:2025 Event,April,Equestrian Event,May
ORGANIZER;CN="Allen Rheinheimer":MAILTO:showtimejumpsllc@gmail.com
END:VEVENT
END:VCALENDAR