BEGIN:VCALENDAR
VERSION:2.0
PRODID:-//Virginia Horse Center - ECPv6.15.20//NONSGML v1.0//EN
CALSCALE:GREGORIAN
METHOD:PUBLISH
X-ORIGINAL-URL:https://vahorsecenter.org
X-WR-CALDESC:Events for Virginia Horse Center
REFRESH-INTERVAL;VALUE=DURATION:PT1H
X-Robots-Tag:noindex
X-PUBLISHED-TTL:PT1H
BEGIN:VTIMEZONE
TZID:America/New_York
BEGIN:DAYLIGHT
TZOFFSETFROM:-0500
TZOFFSETTO:-0400
TZNAME:EDT
DTSTART:20240310T070000
END:DAYLIGHT
BEGIN:STANDARD
TZOFFSETFROM:-0400
TZOFFSETTO:-0500
TZNAME:EST
DTSTART:20241103T060000
END:STANDARD
BEGIN:DAYLIGHT
TZOFFSETFROM:-0500
TZOFFSETTO:-0400
TZNAME:EDT
DTSTART:20250309T070000
END:DAYLIGHT
BEGIN:STANDARD
TZOFFSETFROM:-0400
TZOFFSETTO:-0500
TZNAME:EST
DTSTART:20251102T060000
END:STANDARD
BEGIN:DAYLIGHT
TZOFFSETFROM:-0500
TZOFFSETTO:-0400
TZNAME:EDT
DTSTART:20260308T070000
END:DAYLIGHT
BEGIN:STANDARD
TZOFFSETFROM:-0400
TZOFFSETTO:-0500
TZNAME:EST
DTSTART:20261101T060000
END:STANDARD
END:VTIMEZONE
BEGIN:VEVENT
DTSTART;VALUE=DATE:20250430
DTEND;VALUE=DATE:20250505
DTSTAMP:20260419T201010
CREATED:20250327T194919Z
LAST-MODIFIED:20250428T160841Z
UID:10000104-1745971200-1746403199@vahorsecenter.org
SUMMARY:Lexington Spring Encore A - Festival of Champions
DESCRIPTION:Download Prize List
URL:https://vahorsecenter.org/event/lexington-spring-encore-a-festival-of-champions-2/
LOCATION:VHC
CATEGORIES:2025 Event,April,Equestrian Event,May
ORGANIZER;CN="Allen Rheinheimer":MAILTO:showtimejumpsllc@gmail.com
END:VEVENT
BEGIN:VEVENT
DTSTART;TZID=America/New_York:20250515T080000
DTEND;TZID=America/New_York:20250518T170000
DTSTAMP:20260419T201010
CREATED:20250103T214645Z
LAST-MODIFIED:20250326T185055Z
UID:10000043-1747296000-1747587600@vahorsecenter.org
SUMMARY:Keswick Horse Show
DESCRIPTION:Download Prize List
URL:https://vahorsecenter.org/event/keswick-horse-show/
LOCATION:Wiley Arena\, 487 Maury River Road\, Lexington\, 24450‐3374\, United States
CATEGORIES:2025 Event,Equestrian Event,Hunter/Jumper,May
ORGANIZER;CN="Alan Lohman":MAILTO:mdponyshow@gmail.com
END:VEVENT
BEGIN:VEVENT
DTSTART;VALUE=DATE:20250522
DTEND;VALUE=DATE:20250526
DTSTAMP:20260419T201010
CREATED:20250103T221802Z
LAST-MODIFIED:20250326T185203Z
UID:10000044-1747872000-1748217599@vahorsecenter.org
SUMMARY:VHC Eventing
DESCRIPTION:Download Prize List
URL:https://vahorsecenter.org/event/virginia-horse-center-eventing/
LOCATION:VHC
CATEGORIES:2025 Event,Equestrian Event,VHC Eventing
ORGANIZER;CN="Joanie Morris":MAILTO:joaniemorris1@icloud.com
END:VEVENT
BEGIN:VEVENT
DTSTART;VALUE=DATE:20250529
DTEND;VALUE=DATE:20250602
DTSTAMP:20260419T201010
CREATED:20250213T224326Z
LAST-MODIFIED:20250325T171741Z
UID:10000094-1748476800-1748822399@vahorsecenter.org
SUMMARY:Virginia Barrel Classic
DESCRIPTION:Download Prize List
URL:https://vahorsecenter.org/event/virginia-barrel-classic/
LOCATION:Virginia Horse Center
CATEGORIES:2025 Event,Barrel Racing,Equestrian Event
ORGANIZER;CN="Carlton Tomlin":MAILTO:tbarrels@aol.com
END:VEVENT
END:VCALENDAR