BEGIN:VCALENDAR
VERSION:2.0
PRODID:-//Virginia Horse Center - ECPv6.15.20//NONSGML v1.0//EN
CALSCALE:GREGORIAN
METHOD:PUBLISH
X-ORIGINAL-URL:https://vahorsecenter.org
X-WR-CALDESC:Events for Virginia Horse Center
REFRESH-INTERVAL;VALUE=DURATION:PT1H
X-Robots-Tag:noindex
X-PUBLISHED-TTL:PT1H
BEGIN:VTIMEZONE
TZID:America/New_York
BEGIN:DAYLIGHT
TZOFFSETFROM:-0500
TZOFFSETTO:-0400
TZNAME:EDT
DTSTART:20240310T070000
END:DAYLIGHT
BEGIN:STANDARD
TZOFFSETFROM:-0400
TZOFFSETTO:-0500
TZNAME:EST
DTSTART:20241103T060000
END:STANDARD
BEGIN:DAYLIGHT
TZOFFSETFROM:-0500
TZOFFSETTO:-0400
TZNAME:EDT
DTSTART:20250309T070000
END:DAYLIGHT
BEGIN:STANDARD
TZOFFSETFROM:-0400
TZOFFSETTO:-0500
TZNAME:EST
DTSTART:20251102T060000
END:STANDARD
BEGIN:DAYLIGHT
TZOFFSETFROM:-0500
TZOFFSETTO:-0400
TZNAME:EDT
DTSTART:20260308T070000
END:DAYLIGHT
BEGIN:STANDARD
TZOFFSETFROM:-0400
TZOFFSETTO:-0500
TZNAME:EST
DTSTART:20261101T060000
END:STANDARD
END:VTIMEZONE
BEGIN:VEVENT
DTSTART;VALUE=DATE:20250630
DTEND;VALUE=DATE:20250706
DTSTAMP:20260419T164427
CREATED:20250103T231952Z
LAST-MODIFIED:20250327T195915Z
UID:10000052-1751241600-1751759999@vahorsecenter.org
SUMMARY:Firecracker Classic Pre-Show and Region 15 & 16 Arabian Championships
DESCRIPTION:Download Prize List
URL:https://vahorsecenter.org/event/region-15-and-16-arabian-championship-horse-show/
LOCATION:VHC
CATEGORIES:2025 Event,Arabian,Equestrian Event,June
ORGANIZER;CN="Kim Dickinson":MAILTO:showmanagerkim@gmail.com
END:VEVENT
BEGIN:VEVENT
DTSTART;VALUE=DATE:20250711
DTEND;VALUE=DATE:20250714
DTSTAMP:20260419T164427
CREATED:20250327T201139Z
LAST-MODIFIED:20250327T201512Z
UID:10000106-1752192000-1752451199@vahorsecenter.org
SUMMARY:Dressage at Lexington • VADA
DESCRIPTION:Download Prize List
URL:https://vahorsecenter.org/event/dressage-at-lexington-vada/
LOCATION:VHC
CATEGORIES:2025 Event,Dressage,Equestrian Event,July
ORGANIZER;CN="Diane Boyd (VADA)":MAILTO:greyhorse11@gmail.com
END:VEVENT
BEGIN:VEVENT
DTSTART;VALUE=DATE:20250725
DTEND;VALUE=DATE:20250728
DTSTAMP:20260419T164427
CREATED:20250106T182527Z
LAST-MODIFIED:20250325T191620Z
UID:10000055-1753401600-1753660799@vahorsecenter.org
SUMMARY:JM Equine Barrel Race
DESCRIPTION:Download Prize List
URL:https://vahorsecenter.org/event/jm-equine-barrel-race/
LOCATION:Anderson Coliseum\, 487 Maury River Road\, Lexington\, Virginia\, 24450\, United States
CATEGORIES:2025 Event,Barrel Racing,Equestrian Event
END:VEVENT
BEGIN:VEVENT
DTSTART;VALUE=DATE:20250726
DTEND;VALUE=DATE:20250727
DTSTAMP:20260419T164427
CREATED:20250206T204751Z
LAST-MODIFIED:20250326T190643Z
UID:10000092-1753488000-1753574399@vahorsecenter.org
SUMMARY:Eventing in Virginia - Jumper Derby & Dressage
DESCRIPTION:Download Prize List
URL:https://vahorsecenter.org/event/eventing-jumper-derby-2-copy/
LOCATION:Top of Hill
CATEGORIES:2025 Event,Dressage,Equestrian Event,July
ORGANIZER;CN="Gammon Castellvi":MAILTO:gammonlee@gmail.com
END:VEVENT
BEGIN:VEVENT
DTSTART;VALUE=DATE:20250726
DTEND;VALUE=DATE:20250728
DTSTAMP:20260419T164427
CREATED:20250106T183406Z
LAST-MODIFIED:20250619T174705Z
UID:10000056-1753488000-1753660799@vahorsecenter.org
SUMMARY:38th Annual Region III Connemara Show
DESCRIPTION:Download Prize List
URL:https://vahorsecenter.org/event/american-connemara-pony-society-region-3-horse-show/
LOCATION:Wiley Arena\, 487 Maury River Road\, Lexington\, 24450‐3374\, United States
CATEGORIES:2025 Event,Equestrian Event,July,Jumper Derby
END:VEVENT
END:VCALENDAR