BEGIN:VCALENDAR
VERSION:2.0
PRODID:-//Virginia Horse Center - ECPv6.15.20//NONSGML v1.0//EN
CALSCALE:GREGORIAN
METHOD:PUBLISH
X-ORIGINAL-URL:https://vahorsecenter.org
X-WR-CALDESC:Events for Virginia Horse Center
REFRESH-INTERVAL;VALUE=DURATION:PT1H
X-Robots-Tag:noindex
X-PUBLISHED-TTL:PT1H
BEGIN:VTIMEZONE
TZID:America/New_York
BEGIN:DAYLIGHT
TZOFFSETFROM:-0500
TZOFFSETTO:-0400
TZNAME:EDT
DTSTART:20240310T070000
END:DAYLIGHT
BEGIN:STANDARD
TZOFFSETFROM:-0400
TZOFFSETTO:-0500
TZNAME:EST
DTSTART:20241103T060000
END:STANDARD
BEGIN:DAYLIGHT
TZOFFSETFROM:-0500
TZOFFSETTO:-0400
TZNAME:EDT
DTSTART:20250309T070000
END:DAYLIGHT
BEGIN:STANDARD
TZOFFSETFROM:-0400
TZOFFSETTO:-0500
TZNAME:EST
DTSTART:20251102T060000
END:STANDARD
BEGIN:DAYLIGHT
TZOFFSETFROM:-0500
TZOFFSETTO:-0400
TZNAME:EDT
DTSTART:20260308T070000
END:DAYLIGHT
BEGIN:STANDARD
TZOFFSETFROM:-0400
TZOFFSETTO:-0500
TZNAME:EST
DTSTART:20261101T060000
END:STANDARD
END:VTIMEZONE
BEGIN:VEVENT
DTSTART;VALUE=DATE:20250806
DTEND;VALUE=DATE:20250811
DTSTAMP:20260419T150948
CREATED:20250106T190117Z
LAST-MODIFIED:20250624T173636Z
UID:10000059-1754438400-1754870399@vahorsecenter.org
SUMMARY:Lexington National Horse Show A • Festival of Champions
DESCRIPTION:Download Prize List
URL:https://vahorsecenter.org/event/lexington-national-horse-show-a-festival-of-champions/
LOCATION:VHC
CATEGORIES:2025 Event,August,Equestrian Event,Hunter/Jumper
ORGANIZER;CN="Allen Rheinheimer":MAILTO:showtimejumpsllc@gmail.com
END:VEVENT
BEGIN:VEVENT
DTSTART;VALUE=DATE:20250815
DTEND;VALUE=DATE:20250818
DTSTAMP:20260419T150948
CREATED:20250106T191050Z
LAST-MODIFIED:20250325T183802Z
UID:10000060-1755216000-1755475199@vahorsecenter.org
SUMMARY:NBHA Colonial Nationals Super Show
DESCRIPTION:Download Prize List
URL:https://vahorsecenter.org/event/nbha-colonial-nationals-super-show/
LOCATION:Anderson Coliseum\, 487 Maury River Road\, Lexington\, Virginia\, 24450\, United States
CATEGORIES:2025 Event,Barrel Racing,Equestrian Event
ORGANIZER;CN="Bailey Nahrgang (NBHA Colonial Super Show)":MAILTO:events@nbha.com
END:VEVENT
BEGIN:VEVENT
DTSTART;VALUE=DATE:20250816
DTEND;VALUE=DATE:20250817
DTSTAMP:20260419T150948
CREATED:20250106T191523Z
LAST-MODIFIED:20250325T184000Z
UID:10000061-1755302400-1755388799@vahorsecenter.org
SUMMARY:Goose Creek Hunter Jumper Horse Show
DESCRIPTION:Download Prize List
URL:https://vahorsecenter.org/event/goose-creek-hunter-jumper-horse-show/
LOCATION:East Complex\, 487 Maury River Rd\, Lexington\, VA\, 24450\, United States
CATEGORIES:2025 Event,August,Equestrian Event,Hunter/Jumper
ORGANIZER;CN="Diane Hinch (Goose Creek HJ Horse Show)":MAILTO:dhinch754@gmail.com
END:VEVENT
BEGIN:VEVENT
DTSTART;VALUE=DATE:20250820
DTEND;VALUE=DATE:20250822
DTSTAMP:20260419T150948
CREATED:20250106T193223Z
LAST-MODIFIED:20250325T185552Z
UID:10000063-1755648000-1755820799@vahorsecenter.org
SUMMARY:Virginia Classic Open Dressage
DESCRIPTION:Download Prize List
URL:https://vahorsecenter.org/event/virginia-classic-open-dressage/
LOCATION:East Complex\, 487 Maury River Rd\, Lexington\, VA\, 24450\, United States
CATEGORIES:2025 Event,Dressage,Equestrian Event
ORGANIZER;CN="Susan Hart (Eastern Region Andalusian Horse Club)":MAILTO:crqhf2020@gmail.com
END:VEVENT
BEGIN:VEVENT
DTSTART;VALUE=DATE:20250823
DTEND;VALUE=DATE:20250825
DTSTAMP:20260419T150948
CREATED:20250106T194732Z
LAST-MODIFIED:20250325T190238Z
UID:10000065-1755907200-1756079999@vahorsecenter.org
SUMMARY:ERAHC Virginia Classic Andalusian Show
DESCRIPTION:Download Prize List
URL:https://vahorsecenter.org/event/eastern-region-andalusian-horse-show/
LOCATION:East Complex\, 487 Maury River Rd\, Lexington\, VA\, 24450\, United States
CATEGORIES:2025 Event,Andalusians,August
END:VEVENT
BEGIN:VEVENT
DTSTART;VALUE=DATE:20250823
DTEND;VALUE=DATE:20250825
DTSTAMP:20260419T150948
CREATED:20250106T202430Z
LAST-MODIFIED:20250523T165000Z
UID:10000073-1755907200-1756079999@vahorsecenter.org
SUMMARY:VHC Eventing Starter Trials & XCountry Schooling
DESCRIPTION:Download Prize List
URL:https://vahorsecenter.org/event/virginia-horse-center-starter-trials-xcountry-schooling/
LOCATION:Wiley Arena\, 487 Maury River Road\, Lexington\, 24450‐3374\, United States
CATEGORIES:2025 Event,Dressage,Equestrian Event,Jumping,September,VHC Eventing,XC,Youth
ORGANIZER;CN="Molly Bull":MAILTO:mollyhooper@hotmail.com
END:VEVENT
BEGIN:VEVENT
DTSTART;VALUE=DATE:20250829
DTEND;VALUE=DATE:20250901
DTSTAMP:20260419T150948
CREATED:20250106T195415Z
LAST-MODIFIED:20250325T191653Z
UID:10000066-1756425600-1756684799@vahorsecenter.org
SUMMARY:JM Equine Barrel Race
DESCRIPTION:Download Prize List
URL:https://vahorsecenter.org/event/jm-equine-barrel-race-2/
LOCATION:Anderson Coliseum\, 487 Maury River Road\, Lexington\, Virginia\, 24450\, United States
CATEGORIES:2025 Event,August,Barrel Racing,Equestrian Event
END:VEVENT
BEGIN:VEVENT
DTSTART;VALUE=DATE:20250830
DTEND;VALUE=DATE:20250831
DTSTAMP:20260419T150948
CREATED:20250315T020849Z
LAST-MODIFIED:20250325T192524Z
UID:10000097-1756512000-1756598399@vahorsecenter.org
SUMMARY:East Coast Halter Futurity
DESCRIPTION:Download Prize List
URL:https://vahorsecenter.org/event/east-coast-halter-futurity/
LOCATION:VHC
CATEGORIES:2025 Event,August,Equestrian Event,Quarter Horse
ORGANIZER;CN="Marcy Walker":MAILTO:marcyw108@gmail.com
END:VEVENT
BEGIN:VEVENT
DTSTART;VALUE=DATE:20250830
DTEND;VALUE=DATE:20250901
DTSTAMP:20260419T150948
CREATED:20250106T183803Z
LAST-MODIFIED:20250325T192244Z
UID:10000057-1756512000-1756684799@vahorsecenter.org
SUMMARY:House Mountain Horse Show
DESCRIPTION:Download Prize List
URL:https://vahorsecenter.org/event/house-mountain-hunter-jumper-horse-show/
LOCATION:Isabel de Szinay Complex (Dee Dee Arena)
CATEGORIES:2025 Event,Hunter/Jumper,July
ORGANIZER;CN="Jason Berry":MAILTO:jasonberrystable@aol.com
END:VEVENT
END:VCALENDAR