BEGIN:VCALENDAR
VERSION:2.0
PRODID:-//Virginia Horse Center - ECPv6.15.20//NONSGML v1.0//EN
CALSCALE:GREGORIAN
METHOD:PUBLISH
X-WR-CALNAME:Virginia Horse Center
X-ORIGINAL-URL:https://vahorsecenter.org
X-WR-CALDESC:Events for Virginia Horse Center
REFRESH-INTERVAL;VALUE=DURATION:PT1H
X-Robots-Tag:noindex
X-PUBLISHED-TTL:PT1H
BEGIN:VTIMEZONE
TZID:America/New_York
BEGIN:DAYLIGHT
TZOFFSETFROM:-0500
TZOFFSETTO:-0400
TZNAME:EDT
DTSTART:20240310T070000
END:DAYLIGHT
BEGIN:STANDARD
TZOFFSETFROM:-0400
TZOFFSETTO:-0500
TZNAME:EST
DTSTART:20241103T060000
END:STANDARD
BEGIN:DAYLIGHT
TZOFFSETFROM:-0500
TZOFFSETTO:-0400
TZNAME:EDT
DTSTART:20250309T070000
END:DAYLIGHT
BEGIN:STANDARD
TZOFFSETFROM:-0400
TZOFFSETTO:-0500
TZNAME:EST
DTSTART:20251102T060000
END:STANDARD
BEGIN:DAYLIGHT
TZOFFSETFROM:-0500
TZOFFSETTO:-0400
TZNAME:EDT
DTSTART:20260308T070000
END:DAYLIGHT
BEGIN:STANDARD
TZOFFSETFROM:-0400
TZOFFSETTO:-0500
TZNAME:EST
DTSTART:20261101T060000
END:STANDARD
BEGIN:DAYLIGHT
TZOFFSETFROM:-0500
TZOFFSETTO:-0400
TZNAME:EDT
DTSTART:20270314T070000
END:DAYLIGHT
BEGIN:STANDARD
TZOFFSETFROM:-0400
TZOFFSETTO:-0500
TZNAME:EST
DTSTART:20271107T060000
END:STANDARD
END:VTIMEZONE
BEGIN:VEVENT
DTSTART;VALUE=DATE:20251028
DTEND;VALUE=DATE:20251029
DTSTAMP:20260419T201837
CREATED:20250328T201553Z
LAST-MODIFIED:20251015T161103Z
UID:10000115-1761609600-1761695999@vahorsecenter.org
SUMMARY:American Trakehner Association Annual Meeting
DESCRIPTION:Event Organizer: Lynda McGarry \nPhone: (540) 525-8291  \nEmail \nWebsite
URL:https://vahorsecenter.org/event/american-trakehner-association-annual-meeting/
LOCATION:VHC
CATEGORIES:2025 Event,Equestrian Event
ORGANIZER;CN="Ann Cottongim":MAILTO:ata@americantrakehner.com
END:VEVENT
BEGIN:VEVENT
DTSTART;VALUE=DATE:20251030
DTEND;VALUE=DATE:20251103
DTSTAMP:20260419T201837
CREATED:20250306T210239Z
LAST-MODIFIED:20250917T163653Z
UID:10000082-1761782400-1762127999@vahorsecenter.org
SUMMARY:VHC Eventing
DESCRIPTION:Event Organizer: Lynda McGarry \nPhone: (540) 525-8291  \nEmail \nWebsite
URL:https://vahorsecenter.org/event/virginia-horse-center-eventing-2/
LOCATION:VHC
CATEGORIES:2025 Event,Equestrian Event,November,October,VHC Eventing
ORGANIZER;CN="Joanie Morris":MAILTO:joaniemorris1@icloud.com
END:VEVENT
BEGIN:VEVENT
DTSTART;VALUE=DATE:20251106
DTEND;VALUE=DATE:20251110
DTSTAMP:20260419T201837
CREATED:20250106T212125Z
LAST-MODIFIED:20250326T011310Z
UID:10000083-1762387200-1762732799@vahorsecenter.org
SUMMARY:VHSA Associate Championship Horse Show
DESCRIPTION:Event Organizer: Lynda McGarry \nPhone: (540) 525-8291  \nEmail \nWebsite
URL:https://vahorsecenter.org/event/vhsa-associate-championship-horse-show/
LOCATION:Anderson Coliseum\, 487 Maury River Road\, Lexington\, Virginia\, 24450\, United States
CATEGORIES:2025 Event,Hunter/Jumper,November,October
ORGANIZER;CN="Clyde Poarch (VHSA)":MAILTO:edgewoodone@aol.com
END:VEVENT
BEGIN:VEVENT
DTSTART;VALUE=DATE:20251115
DTEND;VALUE=DATE:20251117
DTSTAMP:20260419T201837
CREATED:20250723T191013Z
LAST-MODIFIED:20251021T150246Z
UID:10000121-1763164800-1763337599@vahorsecenter.org
SUMMARY:UPHA Virginia Winter Tournament
DESCRIPTION:Event Organizer: Lynda McGarry \nPhone: (540) 525-8291  \nEmail \nWebsite
URL:https://vahorsecenter.org/event/virginia-winter-tournament-2/
LOCATION:Barn 5
CATEGORIES:2025 Event,Equestrian Event,November,Saddlebred
ATTACH;FMTTYPE=image/jpeg:https://vahorsecenter.org/wp-content/uploads/2024/11/15OD1152-scaled.jpg
ORGANIZER;CN="Nancy Troutman":MAILTO:mwsinc516@aol.com
END:VEVENT
BEGIN:VEVENT
DTSTART;VALUE=DATE:20260115
DTEND;VALUE=DATE:20260119
DTSTAMP:20260419T201837
CREATED:20251126T060442Z
LAST-MODIFIED:20260113T155921Z
UID:10000126-1768435200-1768780799@vahorsecenter.org
SUMMARY:Lexington Country I – Blue Ridge Championship Series Sponsored by Boone Tractor
DESCRIPTION:Event Organizer: Lynda McGarry \nPhone: (540) 525-8291  \nEmail \nWebsite
URL:https://vahorsecenter.org/event/lexington-country-i-blue-ridge-championships-2026/
LOCATION:Anderson Coliseum/East Complex\, 487 Maury River Rd\, Lexington\, VA\, 24450\, United States
CATEGORIES:2026 Event,Equestrian Event,Hunter/Jumper,January
ORGANIZER;CN="Stephen Bickers":MAILTO:stephen.s.bickers@gmail.com
END:VEVENT
BEGIN:VEVENT
DTSTART;VALUE=DATE:20260221
DTEND;VALUE=DATE:20260223
DTSTAMP:20260419T201837
CREATED:20251201T182438Z
LAST-MODIFIED:20260208T192605Z
UID:10000142-1771632000-1771804799@vahorsecenter.org
SUMMARY:Polar Bear Horse Show
DESCRIPTION:Event Organizer: Lynda McGarry \nPhone: (540) 525-8291  \nEmail \nWebsite
URL:https://vahorsecenter.org/event/polar-bear-horse-show-3/
LOCATION:East Complex\, 487 Maury River Rd\, Lexington\, VA\, 24450\, United States
CATEGORIES:2026 Event,Hunter
END:VEVENT
BEGIN:VEVENT
DTSTART;VALUE=DATE:20260226
DTEND;VALUE=DATE:20260302
DTSTAMP:20260419T201837
CREATED:20251126T061110Z
LAST-MODIFIED:20260113T160148Z
UID:10000127-1772064000-1772409599@vahorsecenter.org
SUMMARY:Spring Welcome – Blue Ridge Championship Series Sponsored by Boone Tractor
DESCRIPTION:Event Organizer: Lynda McGarry \nPhone: (540) 525-8291  \nEmail \nWebsite
URL:https://vahorsecenter.org/event/spring-welcome-blue-ridge-championship-show-copy/
LOCATION:Anderson Coliseum/East Complex\, 487 Maury River Rd\, Lexington\, VA\, 24450\, United States
CATEGORIES:2026 Event,Equestrian Event,February,Hunter
ORGANIZER;CN="Stephen Bickers":MAILTO:stephen.s.bickers@gmail.com
END:VEVENT
BEGIN:VEVENT
DTSTART;VALUE=DATE:20260410
DTEND;VALUE=DATE:20260413
DTSTAMP:20260419T201837
CREATED:20250103T194429Z
LAST-MODIFIED:20260410T202317Z
UID:10000034-1775779200-1776038399@vahorsecenter.org
SUMMARY:Blue Ridge Arabian Classic
DESCRIPTION:Event Organizer: Lynda McGarry \nPhone: (540) 525-8291  \nEmail \nWebsite
URL:https://vahorsecenter.org/event/blue-ridge-arabians/
LOCATION:Anderson Coliseum\, 487 Maury River Road\, Lexington\, Virginia\, 24450\, United States
CATEGORIES:2025 Event,April,Arabian,Equestrian Event
ORGANIZER;CN="Kim Dickerson":MAILTO:showmanagerkim@gmail.com
END:VEVENT
BEGIN:VEVENT
DTSTART;VALUE=DATE:20260422
DTEND;VALUE=DATE:20260427
DTSTAMP:20260419T201837
CREATED:20250411T110848Z
LAST-MODIFIED:20260312T165150Z
UID:10000116-1776816000-1777247999@vahorsecenter.org
SUMMARY:Lexington Spring Premiere A
DESCRIPTION:Event Organizer: Lynda McGarry \nPhone: (540) 525-8291  \nEmail \nWebsite
URL:https://vahorsecenter.org/event/lexington-spring-premiere-a-festival-of-champions/
LOCATION:VHC
CATEGORIES:2026 Event,April,Equestrian Event,Hunter/Jumper
ORGANIZER;CN="Allen Rheinheimer":MAILTO:showtimejumpsllc@gmail.com
END:VEVENT
BEGIN:VEVENT
DTSTART;VALUE=DATE:20260514
DTEND;VALUE=DATE:20260518
DTSTAMP:20260419T201837
CREATED:20250103T214344Z
LAST-MODIFIED:20260312T165548Z
UID:10000042-1778716800-1779062399@vahorsecenter.org
SUMMARY:Mid-Atlantic Dressage  Festival (MADFest) and Lexington CDI 3* Sponsored by Takt Saddlery
DESCRIPTION:Event Organizer: Lynda McGarry \nPhone: (540) 525-8291  \nEmail \nWebsite
URL:https://vahorsecenter.org/event/mid-atlantic-dressage-festival/
LOCATION:Anderson Coliseum\, 487 Maury River Road\, Lexington\, Virginia\, 24450\, United States
CATEGORIES:2026 Event,Dressage,Equestrian Event,May
ORGANIZER;CN="Heather Peterson":MAILTO:slush@drgw.net
END:VEVENT
BEGIN:VEVENT
DTSTART;VALUE=DATE:20260617
DTEND;VALUE=DATE:20260621
DTSTAMP:20260419T201837
CREATED:20250103T225812Z
LAST-MODIFIED:20260417T160818Z
UID:10000049-1781654400-1781999999@vahorsecenter.org
SUMMARY:Shenandoah Classic Horse Show
DESCRIPTION:Event Organizer: Lynda McGarry \nPhone: (540) 525-8291  \nEmail \nWebsite
URL:https://vahorsecenter.org/event/shenandoah-classic-horse-show/
LOCATION:VHC
CATEGORIES:2025 Event,Equestrian Event,June,Saddlebred
ORGANIZER;CN="RH Bennett":MAILTO:rbennett57@mac.com
END:VEVENT
BEGIN:VEVENT
DTSTART;VALUE=DATE:20260730
DTEND;VALUE=DATE:20260802
DTSTAMP:20260419T201837
CREATED:20250327T202547Z
LAST-MODIFIED:20260303T223604Z
UID:10000108-1785369600-1785628799@vahorsecenter.org
SUMMARY:East Coast Arabian Championship Horse Show
DESCRIPTION:Event Organizer: Lynda McGarry \nPhone: (540) 525-8291  \nEmail \nWebsite
URL:https://vahorsecenter.org/event/east-coast-arabian-championship-horse-show-2/
LOCATION:VHC
CATEGORIES:2025 Event,Arabian,August,Equestrian Event,July
ORGANIZER;CN="Kim Dickinson (East Coast Arabian Championship)":MAILTO:showmanagerkim@gmail.com
END:VEVENT
BEGIN:VEVENT
DTSTART;VALUE=DATE:20260822
DTEND;VALUE=DATE:20260823
DTSTAMP:20260419T201837
CREATED:20250327T203330Z
LAST-MODIFIED:20260323T184003Z
UID:10000109-1787356800-1787443199@vahorsecenter.org
SUMMARY:2026 Sallie B. Wheeler USEF/USHJA National Hunter Breeding Championship
DESCRIPTION:Event Organizer: Lynda McGarry \nPhone: (540) 525-8291  \nEmail \nWebsite
URL:https://vahorsecenter.org/event/2025-sallie-b-wheeler-usef-ushja-national-hunter-breeding-championship-2/
CATEGORIES:2026 Event,Equestrian Event,Hunter/Jumper
END:VEVENT
BEGIN:VEVENT
DTSTART;VALUE=DATE:20260823
DTEND;VALUE=DATE:20260824
DTSTAMP:20260419T201837
CREATED:20250613T161426Z
LAST-MODIFIED:20260320T165424Z
UID:10000119-1787443200-1787529599@vahorsecenter.org
SUMMARY:USHJA Young Hunter Pony National Championship
DESCRIPTION:Event Organizer: Lynda McGarry \nPhone: (540) 525-8291  \nEmail \nWebsite
URL:https://vahorsecenter.org/event/ushja-young-hunter-pony-national-championship/
CATEGORIES:2026 Event,August,Equestrian Event,Hunter
END:VEVENT
BEGIN:VEVENT
DTSTART;VALUE=DATE:20261121
DTEND;VALUE=DATE:20261123
DTSTAMP:20260419T201837
CREATED:20250327T210455Z
LAST-MODIFIED:20260212T135826Z
UID:10000113-1795219200-1795391999@vahorsecenter.org
SUMMARY:Southern Extreme Bull Riding Association (SEBRA)
DESCRIPTION:Event Organizer: Lynda McGarry \nPhone: (540) 525-8291  \nEmail \nWebsite
URL:https://vahorsecenter.org/event/southern-extreme-bull-riding-association-sebra/
LOCATION:Anderson Coliseum\, 487 Maury River Road\, Lexington\, Virginia\, 24450\, United States
CATEGORIES:2026 Event,Bull Riding,Equestrian Event,November
END:VEVENT
END:VCALENDAR