BEGIN:VCALENDAR
VERSION:2.0
PRODID:-//Virginia Horse Center - ECPv6.15.20//NONSGML v1.0//EN
CALSCALE:GREGORIAN
METHOD:PUBLISH
X-ORIGINAL-URL:https://vahorsecenter.org
X-WR-CALDESC:Events for Virginia Horse Center
REFRESH-INTERVAL;VALUE=DURATION:PT1H
X-Robots-Tag:noindex
X-PUBLISHED-TTL:PT1H
BEGIN:VTIMEZONE
TZID:America/New_York
BEGIN:DAYLIGHT
TZOFFSETFROM:-0500
TZOFFSETTO:-0400
TZNAME:EDT
DTSTART:20240310T070000
END:DAYLIGHT
BEGIN:STANDARD
TZOFFSETFROM:-0400
TZOFFSETTO:-0500
TZNAME:EST
DTSTART:20241103T060000
END:STANDARD
BEGIN:DAYLIGHT
TZOFFSETFROM:-0500
TZOFFSETTO:-0400
TZNAME:EDT
DTSTART:20250309T070000
END:DAYLIGHT
BEGIN:STANDARD
TZOFFSETFROM:-0400
TZOFFSETTO:-0500
TZNAME:EST
DTSTART:20251102T060000
END:STANDARD
BEGIN:DAYLIGHT
TZOFFSETFROM:-0500
TZOFFSETTO:-0400
TZNAME:EDT
DTSTART:20260308T070000
END:DAYLIGHT
BEGIN:STANDARD
TZOFFSETFROM:-0400
TZOFFSETTO:-0500
TZNAME:EST
DTSTART:20261101T060000
END:STANDARD
END:VTIMEZONE
BEGIN:VEVENT
DTSTART;TZID=America/New_York:20250912T080000
DTEND;TZID=America/New_York:20250914T170000
DTSTAMP:20260419T213312
CREATED:20250106T200116Z
LAST-MODIFIED:20250325T201907Z
UID:10000068-1757664000-1757869200@vahorsecenter.org
SUMMARY:Virginia Paint Horse Show
DESCRIPTION:Event Organizer: Alison R. Umberger \nEmail
URL:https://vahorsecenter.org/event/virginia-paint-horse-show/
LOCATION:Anderson Coliseum\, 487 Maury River Road\, Lexington\, Virginia\, 24450\, United States
CATEGORIES:2025 Event,Equestrian Event,Paint Horse
ORGANIZER;CN="Alison R. Umberger":MAILTO:uphconline@gmail.com
END:VEVENT
END:VCALENDAR