BEGIN:VCALENDAR
VERSION:2.0
PRODID:-//Virginia Horse Center - ECPv6.15.20//NONSGML v1.0//EN
CALSCALE:GREGORIAN
METHOD:PUBLISH
X-ORIGINAL-URL:https://vahorsecenter.org
X-WR-CALDESC:Events for Virginia Horse Center
REFRESH-INTERVAL;VALUE=DURATION:PT1H
X-Robots-Tag:noindex
X-PUBLISHED-TTL:PT1H
BEGIN:VTIMEZONE
TZID:America/New_York
BEGIN:DAYLIGHT
TZOFFSETFROM:-0500
TZOFFSETTO:-0400
TZNAME:EDT
DTSTART:20240310T070000
END:DAYLIGHT
BEGIN:STANDARD
TZOFFSETFROM:-0400
TZOFFSETTO:-0500
TZNAME:EST
DTSTART:20241103T060000
END:STANDARD
BEGIN:DAYLIGHT
TZOFFSETFROM:-0500
TZOFFSETTO:-0400
TZNAME:EDT
DTSTART:20250309T070000
END:DAYLIGHT
BEGIN:STANDARD
TZOFFSETFROM:-0400
TZOFFSETTO:-0500
TZNAME:EST
DTSTART:20251102T060000
END:STANDARD
BEGIN:DAYLIGHT
TZOFFSETFROM:-0500
TZOFFSETTO:-0400
TZNAME:EDT
DTSTART:20260308T070000
END:DAYLIGHT
BEGIN:STANDARD
TZOFFSETFROM:-0400
TZOFFSETTO:-0500
TZNAME:EST
DTSTART:20261101T060000
END:STANDARD
END:VTIMEZONE
BEGIN:VEVENT
DTSTART;VALUE=DATE:20250626
DTEND;VALUE=DATE:20250629
DTSTAMP:20260419T232643
CREATED:20250103T231425Z
LAST-MODIFIED:20250325T175532Z
UID:10000051-1750896000-1751155199@vahorsecenter.org
SUMMARY:Equestrian Vaulting Region IX Championship
DESCRIPTION:Dressage\, Hunter\, Western\, Gymkhana\, and Trails \nShow Organizer: Jill Dawson\nPhone: (540) 460-9980 \n\n\n\n			\n	\n	\n		\n			\n							More Information & Prize List
URL:https://vahorsecenter.org/event/equestrian-vaulting-region-ix-championship/
LOCATION:East Complex\, 487 Maury River Rd\, Lexington\, VA\, 24450\, United States
CATEGORIES:2025 Event,Equestrian Event,June,Vaulting
ORGANIZER;CN="Equestrian Vaulting Region IX Championships":MAILTO:kim@equestrianvvaultingregionix.org
END:VEVENT
END:VCALENDAR