BEGIN:VCALENDAR
VERSION:2.0
PRODID:-//Virginia Horse Center - ECPv6.15.20//NONSGML v1.0//EN
CALSCALE:GREGORIAN
METHOD:PUBLISH
X-WR-CALNAME:Virginia Horse Center
X-ORIGINAL-URL:https://vahorsecenter.org
X-WR-CALDESC:Events for Virginia Horse Center
REFRESH-INTERVAL;VALUE=DURATION:PT1H
X-Robots-Tag:noindex
X-PUBLISHED-TTL:PT1H
BEGIN:VTIMEZONE
TZID:America/New_York
BEGIN:DAYLIGHT
TZOFFSETFROM:-0500
TZOFFSETTO:-0400
TZNAME:EDT
DTSTART:20230312T070000
END:DAYLIGHT
BEGIN:STANDARD
TZOFFSETFROM:-0400
TZOFFSETTO:-0500
TZNAME:EST
DTSTART:20231105T060000
END:STANDARD
BEGIN:DAYLIGHT
TZOFFSETFROM:-0500
TZOFFSETTO:-0400
TZNAME:EDT
DTSTART:20240310T070000
END:DAYLIGHT
BEGIN:STANDARD
TZOFFSETFROM:-0400
TZOFFSETTO:-0500
TZNAME:EST
DTSTART:20241103T060000
END:STANDARD
BEGIN:DAYLIGHT
TZOFFSETFROM:-0500
TZOFFSETTO:-0400
TZNAME:EDT
DTSTART:20250309T070000
END:DAYLIGHT
BEGIN:STANDARD
TZOFFSETFROM:-0400
TZOFFSETTO:-0500
TZNAME:EST
DTSTART:20251102T060000
END:STANDARD
BEGIN:DAYLIGHT
TZOFFSETFROM:-0500
TZOFFSETTO:-0400
TZNAME:EDT
DTSTART:20260308T070000
END:DAYLIGHT
BEGIN:STANDARD
TZOFFSETFROM:-0400
TZOFFSETTO:-0500
TZNAME:EST
DTSTART:20261101T060000
END:STANDARD
END:VTIMEZONE
BEGIN:VEVENT
DTSTART;VALUE=DATE:20250308
DTEND;VALUE=DATE:20250310
DTSTAMP:20260419T132520
CREATED:20241115T212339Z
LAST-MODIFIED:20250326T223038Z
UID:10000024-1741392000-1741564799@vahorsecenter.org
SUMMARY:The Heart of Virginia and the Dominion Alpaca Shows
DESCRIPTION:Friday Exhibitor Check-in: March 7 • Noon – 6:00 pmSaturday: March 8 • 9:00 – 4:00 pmSunday: March 9 • 9:30 am – 2:00 pm \nShow Venue: East Complex\, Virginia Horse Center\, Lexington\, VA \nFor more information about the show\, sponsorship opportunities\, registration\, vendors\, etc.\, contact: \nPatty Fuller\, Show Supervisor and Event Manager540.953.0439alpacas@poplarhill.com     \nVisit Poplar Hill Alpacas \n Register for the Show  \nPremiere Sponsor
URL:https://vahorsecenter.org/event/the-heart-of-virginia-alpaca-show/
LOCATION:East Complex\, 487 Maury River Rd\, Lexington\, VA\, 24450\, United States
CATEGORIES:2025 Event,Alpacas,Community Events,March
ORGANIZER;CN="Patty Fuller (Heart of Virginia Alpaca Show)":MAILTO:alpacas@poplarhill.com
END:VEVENT
BEGIN:VEVENT
DTSTART;VALUE=DATE:20250227
DTEND;VALUE=DATE:20250303
DTSTAMP:20260419T132520
CREATED:20241115T210937Z
LAST-MODIFIED:20250411T115337Z
UID:10000022-1740614400-1740959999@vahorsecenter.org
SUMMARY:Spring Welcome – Blue Ridge Champions Series*
DESCRIPTION:Show Office (during show): (540) 464-2962  \nStable Office (bedding orders): (540) 464-2966  \nShow Manager: Steven Shank  \nAssistant Manager / Stall Manager: Stephen Bickers\n(434) 906-8378\nSecretary: Sue Tallon\nEmail Sue\n\nVeterinarian: Caroline Leeth\, DVM\n(540) 750-6849 \nFarrier: Donny Johnston\n(540) 569-0715 \n\nJudges: Jean Marie Dunford\,  Alexandra Panetta\nSteward: Stacey Wright\nCourse Designer: Chris Wynne\n				\n			\n						Download Prize List\n					\n			\n							Online Registration
URL:https://vahorsecenter.org/event/spring-welcome-blue-ridge-championship-show/
LOCATION:Anderson Coliseum/East Complex\, 487 Maury River Rd\, Lexington\, VA\, 24450\, United States
CATEGORIES:2025 Event,Equestrian Event,February,Hunter
ORGANIZER;CN="Stephen Bickers":MAILTO:stephen.s.bickers@gmail.com
END:VEVENT
BEGIN:VEVENT
DTSTART;VALUE=DATE:20250221
DTEND;VALUE=DATE:20250223
DTSTAMP:20260419T132520
CREATED:20241115T210028Z
LAST-MODIFIED:20250326T222040Z
UID:10000020-1740096000-1740268799@vahorsecenter.org
SUMMARY:Lone Star Rodeo
DESCRIPTION:Event Organizer: Rachel Boyd \nPhone: (270) 269-6000 \nEmail
URL:https://vahorsecenter.org/event/lone-star-rodeo/
LOCATION:Anderson Coliseum\, 487 Maury River Road\, Lexington\, Virginia\, 24450\, United States
CATEGORIES:2025 Event,Equestrian Event,Rodeo
ORGANIZER;CN="Rachel Boyd":MAILTO:lonestarrodeoco@yahoo.com
END:VEVENT
BEGIN:VEVENT
DTSTART;VALUE=DATE:20250216
DTEND;VALUE=DATE:20250217
DTSTAMP:20260419T132520
CREATED:20241115T205144Z
LAST-MODIFIED:20250327T193018Z
UID:10000019-1739664000-1739750399@vahorsecenter.org
SUMMARY:Interscholastic Equestrian Association
DESCRIPTION:
URL:https://vahorsecenter.org/event/interscholastic-equestrian-association/
LOCATION:East Complex\, 487 Maury River Rd\, Lexington\, VA\, 24450\, United States
CATEGORIES:2025 Event,Equestrian Event,February
ATTACH;FMTTYPE=image/png:https://vahorsecenter.org/wp-content/uploads/2024/11/IEA-logo.png
ORGANIZER;CN="Julie Leitch":MAILTO:julie.leitch@rideiea.org
END:VEVENT
BEGIN:VEVENT
DTSTART;VALUE=DATE:20250215
DTEND;VALUE=DATE:20250217
DTSTAMP:20260419T132520
CREATED:20241115T204818Z
LAST-MODIFIED:20250326T221750Z
UID:10000018-1739577600-1739750399@vahorsecenter.org
SUMMARY:DC Fast Pitch Softball
DESCRIPTION:Event Organizer: Matthew Puckett \nPhone: (540) 418-5764 \nEmail
URL:https://vahorsecenter.org/event/dc-fast-pitch-softball-3/
LOCATION:Anderson Coliseum\, 487 Maury River Road\, Lexington\, Virginia\, 24450\, United States
CATEGORIES:2025 Event,Community Events,Softball
ORGANIZER;CN="Matthew Puckett for DC Fastpitch":MAILTO:dcfastpitchva@gmail.com
END:VEVENT
BEGIN:VEVENT
DTSTART;VALUE=DATE:20250208
DTEND;VALUE=DATE:20250210
DTSTAMP:20260419T132520
CREATED:20241115T204628Z
LAST-MODIFIED:20250327T192840Z
UID:10000017-1738972800-1739145599@vahorsecenter.org
SUMMARY:Virginia Winter Tournament
DESCRIPTION:
URL:https://vahorsecenter.org/event/winter-saddlebred-tournaments/
LOCATION:Barn 5
CATEGORIES:2025 Event,Equestrian Event,February,Saddlebred
ATTACH;FMTTYPE=image/jpeg:https://vahorsecenter.org/wp-content/uploads/2024/11/15OD1152-scaled.jpg
ORGANIZER;CN="Nancy Troutman":MAILTO:mwsinc516@aol.com
END:VEVENT
BEGIN:VEVENT
DTSTART;VALUE=DATE:20250208
DTEND;VALUE=DATE:20250210
DTSTAMP:20260419T132520
CREATED:20241115T204441Z
LAST-MODIFIED:20250326T221305Z
UID:10000016-1738972800-1739145599@vahorsecenter.org
SUMMARY:Eventing in Virginia - Jumper Derby & Dressage
DESCRIPTION:Organizer: Gammon Castellvi\, 843-298-2574 \nVenue: East Complex \n Visit Eventing in Virginia Website
URL:https://vahorsecenter.org/event/eventing-jumper-derby/
LOCATION:East Complex\, 487 Maury River Rd\, Lexington\, VA\, 24450\, United States
CATEGORIES:2025 Event,Dressage,Equestrian Event,Jumper Derby
ORGANIZER;CN="Gammon Castellvi":MAILTO:gammonlee@gmail.com
END:VEVENT
BEGIN:VEVENT
DTSTART;VALUE=DATE:20250208
DTEND;VALUE=DATE:20250210
DTSTAMP:20260419T132520
CREATED:20241115T204205Z
LAST-MODIFIED:20250326T221310Z
UID:10000015-1738972800-1739145599@vahorsecenter.org
SUMMARY:DC Fast Pitch Softball
DESCRIPTION:Event Organizer: Matthew Puckett \nPhone: (540) 418-5764 \nEmail
URL:https://vahorsecenter.org/event/dc-fast-pitch-softball-2/
LOCATION:Anderson Coliseum\, 487 Maury River Road\, Lexington\, Virginia\, 24450\, United States
CATEGORIES:2025 Event,Community Events,February,Softball
ORGANIZER;CN="Matthew Puckett for DC Fastpitch":MAILTO:dcfastpitchva@gmail.com
END:VEVENT
BEGIN:VEVENT
DTSTART;VALUE=DATE:20250131
DTEND;VALUE=DATE:20250203
DTSTAMP:20260419T132520
CREATED:20241115T194114Z
LAST-MODIFIED:20250326T222102Z
UID:10000013-1738281600-1738540799@vahorsecenter.org
SUMMARY:USA BMX
DESCRIPTION:Event Organizer: Justin Travis  \nPhone: (602) 625-3051 \nEmail
URL:https://vahorsecenter.org/event/usa-bmx-2025/
LOCATION:Anderson Coliseum\, 487 Maury River Road\, Lexington\, Virginia\, 24450\, United States
CATEGORIES:2025 Event,BMX,Community Events,February,January
ORGANIZER;CN="Justin Travis (USA BMX)":MAILTO:chris@usabmx.com
END:VEVENT
BEGIN:VEVENT
DTSTART;VALUE=DATE:20250124
DTEND;VALUE=DATE:20250127
DTSTAMP:20260419T132520
CREATED:20241115T192954Z
LAST-MODIFIED:20250326T222109Z
UID:10000011-1737676800-1737935999@vahorsecenter.org
SUMMARY:DC Fast Pitch Softball
DESCRIPTION:
URL:https://vahorsecenter.org/event/dc-fast-pitch-softball/
LOCATION:Anderson Coliseum\, 487 Maury River Road\, Lexington\, Virginia\, 24450\, United States
CATEGORIES:2025 Event,Community Events,Softball
ORGANIZER;CN="Matthew Puckett for DC Fastpitch":MAILTO:dcfastpitchva@gmail.com
END:VEVENT
BEGIN:VEVENT
DTSTART;VALUE=DATE:20250116
DTEND;VALUE=DATE:20250120
DTSTAMP:20260419T132520
CREATED:20241115T192558Z
LAST-MODIFIED:20251231T003316Z
UID:10000010-1736985600-1737331199@vahorsecenter.org
SUMMARY:Lexington Country I – Blue Ridge Champions Series
DESCRIPTION:January 16-19\, 2025  \nEntries postmarked by 1/13 will not incur a $35 late fee. \nJudges: Keith Hastings • Sarah Lane  \nSteward: Kathryn Meadows \nCourse Designer: Alan Lohman \n			\n						Download Prize List\n					\n			\n							Register Online
URL:https://vahorsecenter.org/event/lexington-country-i-blue-ridge-championships-2025/
LOCATION:Anderson Coliseum/East Complex\, 487 Maury River Rd\, Lexington\, VA\, 24450\, United States
CATEGORIES:2025 Event,Equestrian Event,Hunter/Jumper,January
ORGANIZER;CN="Stephen Bickers":MAILTO:stephen.s.bickers@gmail.com
END:VEVENT
BEGIN:VEVENT
DTSTART;VALUE=DATE:20250110
DTEND;VALUE=DATE:20250113
DTSTAMP:20260419T132520
CREATED:20241115T182644Z
LAST-MODIFIED:20250326T215438Z
UID:10000008-1736467200-1736726399@vahorsecenter.org
SUMMARY:Dog Owner Training Club of Lynchburg Agility Trials
DESCRIPTION:Agility Show N Go – Jan. 9\, 2025\nLexington January Agility Trials – Jan. 10-12\, 2025\nContact/Show Chairman: Judy Smotrel\nEmail Judy\nText/cell:  434-258-2310 \nContact for vendors: Bill Watson agilek9@comcast.net
URL:https://vahorsecenter.org/event/star-city-dog-agility-shows-2025/
LOCATION:Anderson Coliseum\, 487 Maury River Road\, Lexington\, Virginia\, 24450\, United States
CATEGORIES:2025 Event,Community Events,Dog Agility,January
ORGANIZER;CN="Dog Owner Training Club of Lynchburg%2C Inc":MAILTO:mailto:jsmotrel@prodigy.net
END:VEVENT
BEGIN:VEVENT
DTSTART;VALUE=DATE:20250103
DTEND;VALUE=DATE:20250105
DTSTAMP:20260419T132520
CREATED:20251125T215946Z
LAST-MODIFIED:20251125T220003Z
UID:10000125-1735862400-1736035199@vahorsecenter.org
SUMMARY:Winter Tournament
DESCRIPTION:
URL:https://vahorsecenter.org/event/virginia-winter-tournament/
LOCATION:Barn 5
CATEGORIES:Equestrian Event,Hunter/Jumper,January
ORGANIZER;CN="Nancy Troutman":MAILTO:mwsinc516@aol.com
END:VEVENT
BEGIN:VEVENT
DTSTART;VALUE=DATE:20241222
DTEND;VALUE=DATE:20241224
DTSTAMP:20260419T132520
CREATED:20241115T210401Z
LAST-MODIFIED:20250326T215203Z
UID:10000021-1734825600-1734998399@vahorsecenter.org
SUMMARY:Polar Bear Horse Show*
DESCRIPTION:
URL:https://vahorsecenter.org/event/polar-bear-horse-show/
LOCATION:East Complex\, 487 Maury River Rd\, Lexington\, VA\, 24450\, United States
CATEGORIES:2025 Event,Equestrian Event,Hunter
END:VEVENT
BEGIN:VEVENT
DTSTART;VALUE=DATE:20241122
DTEND;VALUE=DATE:20241125
DTSTAMP:20260419T132520
CREATED:20241024T203948Z
LAST-MODIFIED:20250326T215132Z
UID:10000003-1732302000-1732474799@vahorsecenter.org
SUMMARY:Fast Pitch Softball
DESCRIPTION:Contact: Matt Pucket\n(540) 418- 5764\nEmail
URL:https://vahorsecenter.org/event/fast-pitch-softball/
LOCATION:Anderson Coliseum\, 487 Maury River Road\, Lexington\, Virginia\, 24450\, United States
CATEGORIES:2024 Events,Community Events,Softball
END:VEVENT
BEGIN:VEVENT
DTSTART;VALUE=DATE:20241101
DTEND;VALUE=DATE:20241103
DTSTAMP:20260419T132520
CREATED:20241024T203144Z
LAST-MODIFIED:20250326T222057Z
UID:10000001-1730491200-1730577599@vahorsecenter.org
SUMMARY:Open Trail Ride
DESCRIPTION:Join us for an Open Trail Ride on Saturday\, November 2\, 2024\, at the Virginia Horse Center\, Lexington\, VA.
URL:https://vahorsecenter.org/event/open-trail-ride-november-2-2024/
CATEGORIES:2024 Events
END:VEVENT
BEGIN:VEVENT
DTSTART;VALUE=DATE:20241030
DTEND;VALUE=DATE:20241105
DTSTAMP:20260419T132520
CREATED:20241024T210113Z
LAST-MODIFIED:20250326T222053Z
UID:10000005-1730318400-1730746799@vahorsecenter.org
SUMMARY:Virginia Horse Show Association Championships 2024
DESCRIPTION:The Virginia Horse Association Championships will be held at the Virginia Horse Center\, October 31 – November 3\, 2024.
URL:https://vahorsecenter.org/event/virginia-horse-show-association-championships-2024/
CATEGORIES:2024 Events
ORGANIZER;CN="Clyde Poarch":MAILTO:edgewoodone@aol.com
END:VEVENT
BEGIN:VEVENT
DTSTART;VALUE=DATE:20241023
DTEND;VALUE=DATE:20241028
DTSTAMP:20260419T132520
CREATED:20241024T204529Z
LAST-MODIFIED:20250326T222049Z
UID:10000004-1729713600-1730059199@vahorsecenter.org
SUMMARY:Southwest VA Hunter/Jumper Association Finals 2024
DESCRIPTION:The Southwest Virginia Hunter/Jumper Association Finals will be held at the Virginia Horse Center\, October 24 – 27\, 2024.
URL:https://vahorsecenter.org/event/southwest-va-hunter-jumper-association-finals-2024/
CATEGORIES:2024 Events,Hunter/Jumper
ORGANIZER;CN="Molly Moore":MAILTO:horseyack@rockbridge.net
END:VEVENT
BEGIN:VEVENT
DTSTART;VALUE=DATE:20241023
DTEND;VALUE=DATE:20241025
DTSTAMP:20260419T132520
CREATED:20241024T203629Z
LAST-MODIFIED:20250326T215021Z
UID:10000002-1729713600-1729799999@vahorsecenter.org
SUMMARY:The Barracks Horse Show 2024
DESCRIPTION:
URL:https://vahorsecenter.org/event/the-barracks-horse-show-2024/
LOCATION:VHC
CATEGORIES:2024 Events
ORGANIZER;CN="Claiborne Bishop":MAILTO:thebarracksfarm@gmail.com
END:VEVENT
END:VCALENDAR