BEGIN:VCALENDAR
VERSION:2.0
PRODID:-//Virginia Horse Center - ECPv6.15.20//NONSGML v1.0//EN
CALSCALE:GREGORIAN
METHOD:PUBLISH
X-ORIGINAL-URL:https://vahorsecenter.org
X-WR-CALDESC:Events for Virginia Horse Center
REFRESH-INTERVAL;VALUE=DURATION:PT1H
X-Robots-Tag:noindex
X-PUBLISHED-TTL:PT1H
BEGIN:VTIMEZONE
TZID:America/New_York
BEGIN:DAYLIGHT
TZOFFSETFROM:-0500
TZOFFSETTO:-0400
TZNAME:EDT
DTSTART:20250309T070000
END:DAYLIGHT
BEGIN:STANDARD
TZOFFSETFROM:-0400
TZOFFSETTO:-0500
TZNAME:EST
DTSTART:20251102T060000
END:STANDARD
BEGIN:DAYLIGHT
TZOFFSETFROM:-0500
TZOFFSETTO:-0400
TZNAME:EDT
DTSTART:20260308T070000
END:DAYLIGHT
BEGIN:STANDARD
TZOFFSETFROM:-0400
TZOFFSETTO:-0500
TZNAME:EST
DTSTART:20261101T060000
END:STANDARD
BEGIN:DAYLIGHT
TZOFFSETFROM:-0500
TZOFFSETTO:-0400
TZNAME:EDT
DTSTART:20270314T070000
END:DAYLIGHT
BEGIN:STANDARD
TZOFFSETFROM:-0400
TZOFFSETTO:-0500
TZNAME:EST
DTSTART:20271107T060000
END:STANDARD
END:VTIMEZONE
BEGIN:VEVENT
DTSTART;TZID=America/New_York:20260321T000000
DTEND;TZID=America/New_York:20260322T000000
DTSTAMP:20260419T133302
CREATED:20251201T182507Z
LAST-MODIFIED:20251201T182507Z
UID:10000150-1774051200-1774137600@vahorsecenter.org
SUMMARY:Trimble's Ridge Horse Show
DESCRIPTION:
URL:https://vahorsecenter.org/event/trimbles-ridge-horse-show/
END:VEVENT
BEGIN:VEVENT
DTSTART;VALUE=DATE:20260321
DTEND;VALUE=DATE:20260323
DTSTAMP:20260419T133302
CREATED:20251201T182509Z
LAST-MODIFIED:20260226T020056Z
UID:10000151-1774051200-1774223999@vahorsecenter.org
SUMMARY:Virginia Horse Center Starter Trials
DESCRIPTION:Download Info Sheet\n					\n			\n							Event Entries
URL:https://vahorsecenter.org/event/virginia-horse-center-starter-trials/
CATEGORIES:2026 Event
END:VEVENT
BEGIN:VEVENT
DTSTART;VALUE=DATE:20260326
DTEND;VALUE=DATE:20260330
DTSTAMP:20260419T133302
CREATED:20251201T182510Z
LAST-MODIFIED:20260129T151614Z
UID:10000152-1774483200-1774828799@vahorsecenter.org
SUMMARY:AQHA March to Virginia and Virginia Maiden
DESCRIPTION:Show Organizers\nAllie Board\, (502) 693-4289\nJohn Boxwell\, (217) 621-9145\nEmail: ABShowmanagement@gmail.com \nAll contributed money is guaranteed by VHC and will be paid out at the show. \n\nJudges: Teresa Sullivan\, Sara Simons\, Brad Luebben\, Carmen Mayabb and Jeff Mellott. \n	Stalls/Shavings/RVs: ALL stalls\, camping\, and shavings will be reserved through the stable office – 540-464-2966. \nCamper & Golf Cart Rentals: (540) 464-2966 \n			\n						View Showbill
URL:https://vahorsecenter.org/event/aqha-march-to-virginia-and-virginia-maiden-2/
END:VEVENT
BEGIN:VEVENT
DTSTART;TZID=America/New_York:20260403T000000
DTEND;TZID=America/New_York:20260405T000000
DTSTAMP:20260419T133302
CREATED:20251201T182520Z
LAST-MODIFIED:20251201T182520Z
UID:10000153-1775174400-1775347200@vahorsecenter.org
SUMMARY:Great American Ranch & Trail Horse Sale
DESCRIPTION:
URL:https://vahorsecenter.org/event/great-american-ranch-trail-horse-sale-2/
END:VEVENT
BEGIN:VEVENT
DTSTART;TZID=America/New_York:20260404T000000
DTEND;TZID=America/New_York:20260404T000000
DTSTAMP:20260419T133302
CREATED:20251201T182521Z
LAST-MODIFIED:20251201T185104Z
UID:10000154-1775260800-1775260800@vahorsecenter.org
SUMMARY:Rockbridge Bull & Oyster Fest
DESCRIPTION:
URL:https://vahorsecenter.org/event/rockbridge-bull-oyster-fest-2/
END:VEVENT
BEGIN:VEVENT
DTSTART;VALUE=DATE:20260404
DTEND;VALUE=DATE:20260406
DTSTAMP:20260419T133302
CREATED:20260131T134645Z
LAST-MODIFIED:20260131T134645Z
UID:10000220-1775260800-1775347200@vahorsecenter.org
SUMMARY:Porsche Car Show
DESCRIPTION:
URL:https://vahorsecenter.org/event/porsche-car-show/
CATEGORIES:2026 Event
END:VEVENT
BEGIN:VEVENT
DTSTART;VALUE=DATE:20260410
DTEND;VALUE=DATE:20260412
DTSTAMP:20260419T133302
CREATED:20251201T182523Z
LAST-MODIFIED:20260218T160435Z
UID:10000156-1775779200-1775951999@vahorsecenter.org
SUMMARY:United Professional Hosemen's Association
DESCRIPTION:UPHA Chapter 18 Show documents
URL:https://vahorsecenter.org/event/united-professional-hosemens-association/
CATEGORIES:2026 Event
END:VEVENT
BEGIN:VEVENT
DTSTART;VALUE=DATE:20260410
DTEND;VALUE=DATE:20260413
DTSTAMP:20260419T133302
CREATED:20250103T194429Z
LAST-MODIFIED:20260410T202317Z
UID:10000034-1775779200-1776038399@vahorsecenter.org
SUMMARY:Blue Ridge Arabian Classic
DESCRIPTION:Show Manager: Kim Dickinson\nEmail Kim\n757-714-9737\nShow Secretary: Ryan Chambers\nEmail Ryan\n\n				\n				\n				\n	\n			\n							Download the Prize List PDF
URL:https://vahorsecenter.org/event/blue-ridge-arabians/
LOCATION:Anderson Coliseum\, 487 Maury River Road\, Lexington\, Virginia\, 24450\, United States
CATEGORIES:2025 Event,April,Arabian,Equestrian Event
ORGANIZER;CN="Kim Dickerson":MAILTO:showmanagerkim@gmail.com
END:VEVENT
BEGIN:VEVENT
DTSTART;VALUE=DATE:20260422
DTEND;VALUE=DATE:20260427
DTSTAMP:20260419T133302
CREATED:20250411T110848Z
LAST-MODIFIED:20260312T165150Z
UID:10000116-1776816000-1777247999@vahorsecenter.org
SUMMARY:Lexington Spring Premiere A
DESCRIPTION:  \nEvent Manager: Allen RheinheimerPhone: 317-847-5986Email \n\n Prizelist PDF   Submit Entries   Show Schedule PDF   Stabling Reservation PDF  \nEmail completed form to: Keedie Leonard
URL:https://vahorsecenter.org/event/lexington-spring-premiere-a-festival-of-champions/
LOCATION:VHC
CATEGORIES:2026 Event,April,Equestrian Event,Hunter/Jumper
ORGANIZER;CN="Allen Rheinheimer":MAILTO:showtimejumpsllc@gmail.com
END:VEVENT
BEGIN:VEVENT
DTSTART;VALUE=DATE:20260429
DTEND;VALUE=DATE:20260504
DTSTAMP:20260419T133302
CREATED:20251201T182537Z
LAST-MODIFIED:20260323T181759Z
UID:10000160-1777420800-1777852799@vahorsecenter.org
SUMMARY:Lexington Spring Encore A - Festival of Champions
DESCRIPTION:  \nEvent Manager: Allen Rheinheimer\nPhone: 317-847-5986\nEmail\n\n				\n	\n			\n							Prizelist PDF\n					\n			\n							Submit Entries\n					\n			\n							Show Schedule PDF\n					\n			\n							Stabling Reservation PDF\n					\n	Email completed form to: Keedie Leonard
URL:https://vahorsecenter.org/event/lexington-spring-encore-a-festival-of-champions/
CATEGORIES:2026 Event
END:VEVENT
BEGIN:VEVENT
DTSTART;VALUE=DATE:20260506
DTEND;VALUE=DATE:20260510
DTSTAMP:20260419T133302
CREATED:20250103T213857Z
LAST-MODIFIED:20260312T165857Z
UID:10000041-1778025600-1778371199@vahorsecenter.org
SUMMARY:The Bonnie Blue National Horse Show
DESCRIPTION:  \nOrganizer: Kent Moeller \nPhone: 804-363-3085 \nEmail Kent \n\n				\n	\n			\n							Prize List PDF\n					\n			\n							Enter this Show!
URL:https://vahorsecenter.org/event/the-bonnie-blue-national-horse-show/
LOCATION:Anderson Coliseum\, 487 Maury River Road\, Lexington\, Virginia\, 24450\, United States
CATEGORIES:2025 Event,Community Events,May
ORGANIZER;CN="Kent Moeller":MAILTO:kentmoeller@gmail.com
END:VEVENT
BEGIN:VEVENT
DTSTART;TZID=America/New_York:20260514T000000
DTEND;TZID=America/New_York:20260517T000000
DTSTAMP:20260419T133302
CREATED:20251201T182551Z
LAST-MODIFIED:20251201T182551Z
UID:10000164-1778716800-1778976000@vahorsecenter.org
SUMMARY:Keswick Horse Show
DESCRIPTION:
URL:https://vahorsecenter.org/event/keswick-horse-show-2/
END:VEVENT
BEGIN:VEVENT
DTSTART;VALUE=DATE:20260514
DTEND;VALUE=DATE:20260518
DTSTAMP:20260419T133302
CREATED:20250103T214344Z
LAST-MODIFIED:20260312T165548Z
UID:10000042-1778716800-1779062399@vahorsecenter.org
SUMMARY:Mid-Atlantic Dressage  Festival (MADFest) and Lexington CDI 3* Sponsored by Takt Saddlery
DESCRIPTION:Organizer: Heather PetersonPhone: (719) 338-0854Email Heather  Visit the MADFest Website
URL:https://vahorsecenter.org/event/mid-atlantic-dressage-festival/
LOCATION:Anderson Coliseum\, 487 Maury River Road\, Lexington\, Virginia\, 24450\, United States
CATEGORIES:2026 Event,Dressage,Equestrian Event,May
ORGANIZER;CN="Heather Peterson":MAILTO:slush@drgw.net
END:VEVENT
BEGIN:VEVENT
DTSTART;TZID=America/New_York:20260521T000000
DTEND;TZID=America/New_York:20260524T000000
DTSTAMP:20260419T133302
CREATED:20251201T182552Z
LAST-MODIFIED:20251201T182552Z
UID:10000165-1779321600-1779580800@vahorsecenter.org
SUMMARY:Virginia Horse Center Eventing
DESCRIPTION:
URL:https://vahorsecenter.org/event/virginia-horse-center-eventing-3/
END:VEVENT
BEGIN:VEVENT
DTSTART;TZID=America/New_York:20260528T000000
DTEND;TZID=America/New_York:20260531T000000
DTSTAMP:20260419T133302
CREATED:20251201T182553Z
LAST-MODIFIED:20251201T182553Z
UID:10000166-1779926400-1780185600@vahorsecenter.org
SUMMARY:Virginia Barrel Classic
DESCRIPTION:
URL:https://vahorsecenter.org/event/virginia-barrel-classic-2/
END:VEVENT
BEGIN:VEVENT
DTSTART;TZID=America/New_York:20260604T000000
DTEND;TZID=America/New_York:20260607T000000
DTSTAMP:20260419T133302
CREATED:20251201T182554Z
LAST-MODIFIED:20251201T182554Z
UID:10000167-1780531200-1780790400@vahorsecenter.org
SUMMARY:Youth Equestrian Development Association National Championship Show
DESCRIPTION:
URL:https://vahorsecenter.org/event/youth-equestrian-development-association-national-championship-show/
END:VEVENT
BEGIN:VEVENT
DTSTART;VALUE=DATE:20260606
DTEND;VALUE=DATE:20260608
DTSTAMP:20260419T133302
CREATED:20251201T182605Z
LAST-MODIFIED:20260209T155100Z
UID:10000168-1780704000-1780876799@vahorsecenter.org
SUMMARY:Bit and Bridle Horse Show
DESCRIPTION:
URL:https://vahorsecenter.org/event/4-h-skills-qualifier-and-horse-show/
CATEGORIES:2026 Event
END:VEVENT
BEGIN:VEVENT
DTSTART;TZID=America/New_York:20260611T000000
DTEND;TZID=America/New_York:20260613T000000
DTSTAMP:20260419T133302
CREATED:20251201T182606Z
LAST-MODIFIED:20251201T182606Z
UID:10000169-1781136000-1781308800@vahorsecenter.org
SUMMARY:Rockbridge Horse Show
DESCRIPTION:
URL:https://vahorsecenter.org/event/rockbridge-horse-show-2/
END:VEVENT
BEGIN:VEVENT
DTSTART;VALUE=DATE:20260617
DTEND;VALUE=DATE:20260621
DTSTAMP:20260419T133302
CREATED:20250103T225812Z
LAST-MODIFIED:20260417T160818Z
UID:10000049-1781654400-1781999999@vahorsecenter.org
SUMMARY:Shenandoah Classic Horse Show
DESCRIPTION:Show Organizer: RH Bennett\nPhone: (502) 664-0870\nEmail \n			\n							Download the Prize List
URL:https://vahorsecenter.org/event/shenandoah-classic-horse-show/
LOCATION:VHC
CATEGORIES:2025 Event,Equestrian Event,June,Saddlebred
ORGANIZER;CN="RH Bennett":MAILTO:rbennett57@mac.com
END:VEVENT
BEGIN:VEVENT
DTSTART;TZID=America/New_York:20260623T000000
DTEND;TZID=America/New_York:20260624T000000
DTSTAMP:20260419T133302
CREATED:20251201T182608Z
LAST-MODIFIED:20251201T182608Z
UID:10000171-1782172800-1782259200@vahorsecenter.org
SUMMARY:House Mountain Horse Show
DESCRIPTION:
URL:https://vahorsecenter.org/event/house-mountain-horse-show-2/
END:VEVENT
BEGIN:VEVENT
DTSTART;TZID=America/New_York:20260625T000000
DTEND;TZID=America/New_York:20260628T000000
DTSTAMP:20260419T133302
CREATED:20251201T182609Z
LAST-MODIFIED:20251201T182609Z
UID:10000172-1782345600-1782604800@vahorsecenter.org
SUMMARY:Equestrian Vaulting Region IX Championship
DESCRIPTION:
URL:https://vahorsecenter.org/event/equestrian-vaulting-region-ix-championship-2/
END:VEVENT
BEGIN:VEVENT
DTSTART;TZID=America/New_York:20260701T000000
DTEND;TZID=America/New_York:20260705T000000
DTSTAMP:20260419T133302
CREATED:20251201T182619Z
LAST-MODIFIED:20251201T182619Z
UID:10000173-1782864000-1783209600@vahorsecenter.org
SUMMARY:Region 15 &16 Arabian Championship Horse Show
DESCRIPTION:
URL:https://vahorsecenter.org/event/region-15-16-arabian-championship-horse-show/
END:VEVENT
BEGIN:VEVENT
DTSTART;VALUE=DATE:20260702
DTEND;VALUE=DATE:20260706
DTSTAMP:20260419T133302
CREATED:20260131T134439Z
LAST-MODIFIED:20260131T134439Z
UID:10000219-1782950400-1783295999@vahorsecenter.org
SUMMARY:Northern Airstream Rally
DESCRIPTION:
URL:https://vahorsecenter.org/event/northern-airstream-rally/
CATEGORIES:2026 Event
END:VEVENT
BEGIN:VEVENT
DTSTART;TZID=America/New_York:20260703T000000
DTEND;TZID=America/New_York:20260705T000000
DTSTAMP:20260419T133302
CREATED:20251201T182620Z
LAST-MODIFIED:20251201T182620Z
UID:10000174-1783036800-1783209600@vahorsecenter.org
SUMMARY:Balloons over Rockbridge
DESCRIPTION:
URL:https://vahorsecenter.org/event/balloons-over-rockbridge/
END:VEVENT
BEGIN:VEVENT
DTSTART;TZID=America/New_York:20260703T000000
DTEND;TZID=America/New_York:20260705T000000
DTSTAMP:20260419T133302
CREATED:20251201T182621Z
LAST-MODIFIED:20251201T182621Z
UID:10000175-1783036800-1783209600@vahorsecenter.org
SUMMARY:Airstream Rally
DESCRIPTION:
URL:https://vahorsecenter.org/event/airstream-rally/
END:VEVENT
BEGIN:VEVENT
DTSTART;TZID=America/New_York:20260710T000000
DTEND;TZID=America/New_York:20260713T000000
DTSTAMP:20260419T133302
CREATED:20251201T182622Z
LAST-MODIFIED:20251201T182622Z
UID:10000176-1783641600-1783900800@vahorsecenter.org
SUMMARY:Dressage at Lexington
DESCRIPTION:
URL:https://vahorsecenter.org/event/dressage-at-lexington-2/
END:VEVENT
BEGIN:VEVENT
DTSTART;VALUE=DATE:20260718
DTEND;VALUE=DATE:20260720
DTSTAMP:20260419T133302
CREATED:20251201T182634Z
LAST-MODIFIED:20260204T225926Z
UID:10000178-1784332800-1784505599@vahorsecenter.org
SUMMARY:American Connemara Pony Society Region 3
DESCRIPTION:
URL:https://vahorsecenter.org/event/american-connemara-pony-society-region-3/
CATEGORIES:2026 Event
END:VEVENT
BEGIN:VEVENT
DTSTART;TZID=America/New_York:20260723T000000
DTEND;TZID=America/New_York:20260726T000000
DTSTAMP:20260419T133302
CREATED:20251201T182623Z
LAST-MODIFIED:20251201T182623Z
UID:10000177-1784764800-1785024000@vahorsecenter.org
SUMMARY:Virginia Commonwealth Games
DESCRIPTION:
URL:https://vahorsecenter.org/event/virginia-commonwealth-games/
END:VEVENT
BEGIN:VEVENT
DTSTART;VALUE=DATE:20260726
DTEND;VALUE=DATE:20260730
DTSTAMP:20260419T133302
CREATED:20251201T182635Z
LAST-MODIFIED:20260303T223440Z
UID:10000179-1785024000-1785369599@vahorsecenter.org
SUMMARY:East Coast Western Dressage Championships
DESCRIPTION:
URL:https://vahorsecenter.org/event/east-coast-western-dressage-championships/
END:VEVENT
BEGIN:VEVENT
DTSTART;VALUE=DATE:20260730
DTEND;VALUE=DATE:20260802
DTSTAMP:20260419T133302
CREATED:20250327T202547Z
LAST-MODIFIED:20260303T223604Z
UID:10000108-1785369600-1785628799@vahorsecenter.org
SUMMARY:East Coast Arabian Championship Horse Show
DESCRIPTION:Event Organizer: Kim Dickinson \nPhone: (757) 714-9737 \nEmail \nEvent Website
URL:https://vahorsecenter.org/event/east-coast-arabian-championship-horse-show-2/
LOCATION:VHC
CATEGORIES:2025 Event,Arabian,August,Equestrian Event,July
ORGANIZER;CN="Kim Dickinson (East Coast Arabian Championship)":MAILTO:showmanagerkim@gmail.com
END:VEVENT
END:VCALENDAR