BEGIN:VCALENDAR
VERSION:2.0
PRODID:-//Virginia Horse Center - ECPv6.15.20//NONSGML v1.0//EN
CALSCALE:GREGORIAN
METHOD:PUBLISH
X-ORIGINAL-URL:https://vahorsecenter.org
X-WR-CALDESC:Events for Virginia Horse Center
REFRESH-INTERVAL;VALUE=DURATION:PT1H
X-Robots-Tag:noindex
X-PUBLISHED-TTL:PT1H
BEGIN:VTIMEZONE
TZID:America/New_York
BEGIN:DAYLIGHT
TZOFFSETFROM:-0500
TZOFFSETTO:-0400
TZNAME:EDT
DTSTART:20250309T070000
END:DAYLIGHT
BEGIN:STANDARD
TZOFFSETFROM:-0400
TZOFFSETTO:-0500
TZNAME:EST
DTSTART:20251102T060000
END:STANDARD
BEGIN:DAYLIGHT
TZOFFSETFROM:-0500
TZOFFSETTO:-0400
TZNAME:EDT
DTSTART:20260308T070000
END:DAYLIGHT
BEGIN:STANDARD
TZOFFSETFROM:-0400
TZOFFSETTO:-0500
TZNAME:EST
DTSTART:20261101T060000
END:STANDARD
BEGIN:DAYLIGHT
TZOFFSETFROM:-0500
TZOFFSETTO:-0400
TZNAME:EDT
DTSTART:20270314T070000
END:DAYLIGHT
BEGIN:STANDARD
TZOFFSETFROM:-0400
TZOFFSETTO:-0500
TZNAME:EST
DTSTART:20271107T060000
END:STANDARD
END:VTIMEZONE
BEGIN:VEVENT
DTSTART;VALUE=DATE:20260726
DTEND;VALUE=DATE:20260730
DTSTAMP:20260420T213355
CREATED:20251201T182635Z
LAST-MODIFIED:20260303T223440Z
UID:10000179-1785024000-1785369599@vahorsecenter.org
SUMMARY:East Coast Western Dressage Championships
DESCRIPTION:Big thanks to our presenting sponsor:\nBoone Tractor\n  \nShow Office (during show): (540) 464-2962  \nStable Office (bedding orders): (540) 464-2966  \nShow Manager: Steven Shank  \nAssistant Manager / Stall Manager: Stephen Bickers\n(434) 906-8378 \nSecretary: Sue Tallon\nEmail Sue \n\nVeterinarian: Caroline Leeth\, DVM\n(540) 750-6849  \nFarrier: Donny Johnston\n(540) 569-0715  \n\nJudges: Kerry Kocher • Heather Squires\nSteward: Kathryn Meadows\nCourse Designer: Chris Wynne \n\n\n\n			\n	\n	\n				\n					\n	\n\n			\n					\n						Download Prize List
URL:https://vahorsecenter.org/event/east-coast-western-dressage-championships/
LOCATION:VA
END:VEVENT
BEGIN:VEVENT
DTSTART;VALUE=DATE:20260730
DTEND;VALUE=DATE:20260802
DTSTAMP:20260420T213355
CREATED:20250327T202547Z
LAST-MODIFIED:20260303T223604Z
UID:10000108-1785369600-1785628799@vahorsecenter.org
SUMMARY:East Coast Arabian Championship Horse Show
DESCRIPTION:Big thanks to our presenting sponsor:\nBoone Tractor\n  \nShow Office (during show): (540) 464-2962  \nStable Office (bedding orders): (540) 464-2966  \nShow Manager: Steven Shank  \nAssistant Manager / Stall Manager: Stephen Bickers\n(434) 906-8378 \nSecretary: Sue Tallon\nEmail Sue \n\nVeterinarian: Caroline Leeth\, DVM\n(540) 750-6849  \nFarrier: Donny Johnston\n(540) 569-0715  \n\nJudges: Kerry Kocher • Heather Squires\nSteward: Kathryn Meadows\nCourse Designer: Chris Wynne \n\n\n\n			\n	\n	\n				\n					\n	\n\n			\n					\n						Download Prize List
URL:https://vahorsecenter.org/event/east-coast-arabian-championship-horse-show-2/
LOCATION:VHC
CATEGORIES:2025 Event,Arabian,August,Equestrian Event,July
ORGANIZER;CN="Kim Dickinson (East Coast Arabian Championship)":MAILTO:showmanagerkim@gmail.com
END:VEVENT
BEGIN:VEVENT
DTSTART;TZID=America/New_York:20260805T000000
DTEND;TZID=America/New_York:20260809T000000
DTSTAMP:20260420T213355
CREATED:20251201T182639Z
LAST-MODIFIED:20251201T182639Z
UID:10000182-1785888000-1786233600@vahorsecenter.org
SUMMARY:Lexington National Horse Show - A - Festival of Champions
DESCRIPTION:Big thanks to our presenting sponsor:\nBoone Tractor\n  \nShow Office (during show): (540) 464-2962  \nStable Office (bedding orders): (540) 464-2966  \nShow Manager: Steven Shank  \nAssistant Manager / Stall Manager: Stephen Bickers\n(434) 906-8378 \nSecretary: Sue Tallon\nEmail Sue \n\nVeterinarian: Caroline Leeth\, DVM\n(540) 750-6849  \nFarrier: Donny Johnston\n(540) 569-0715  \n\nJudges: Kerry Kocher • Heather Squires\nSteward: Kathryn Meadows\nCourse Designer: Chris Wynne \n\n\n\n			\n	\n	\n				\n					\n	\n\n			\n					\n						Download Prize List
URL:https://vahorsecenter.org/event/lexington-national-horse-show-a-festival-of-champions-2/
LOCATION:VA
END:VEVENT
BEGIN:VEVENT
DTSTART;TZID=America/New_York:20260814T000000
DTEND;TZID=America/New_York:20260816T000000
DTSTAMP:20260420T213355
CREATED:20251201T182650Z
LAST-MODIFIED:20251201T182650Z
UID:10000183-1786665600-1786838400@vahorsecenter.org
SUMMARY:National Barrel Racing Association Colonial Nationals
DESCRIPTION:Big thanks to our presenting sponsor:\nBoone Tractor\n  \nShow Office (during show): (540) 464-2962  \nStable Office (bedding orders): (540) 464-2966  \nShow Manager: Steven Shank  \nAssistant Manager / Stall Manager: Stephen Bickers\n(434) 906-8378 \nSecretary: Sue Tallon\nEmail Sue \n\nVeterinarian: Caroline Leeth\, DVM\n(540) 750-6849  \nFarrier: Donny Johnston\n(540) 569-0715  \n\nJudges: Kerry Kocher • Heather Squires\nSteward: Kathryn Meadows\nCourse Designer: Chris Wynne \n\n\n\n			\n	\n	\n				\n					\n	\n\n			\n					\n						Download Prize List
URL:https://vahorsecenter.org/event/national-barrel-racing-association-colonial-nationals/
LOCATION:VA
END:VEVENT
BEGIN:VEVENT
DTSTART;TZID=America/New_York:20260815T000000
DTEND;TZID=America/New_York:20260816T000000
DTSTAMP:20260420T213355
CREATED:20251201T182651Z
LAST-MODIFIED:20251201T182651Z
UID:10000184-1786752000-1786838400@vahorsecenter.org
SUMMARY:Virginia Horse Center Starter Trials
DESCRIPTION:Big thanks to our presenting sponsor:\nBoone Tractor\n  \nShow Office (during show): (540) 464-2962  \nStable Office (bedding orders): (540) 464-2966  \nShow Manager: Steven Shank  \nAssistant Manager / Stall Manager: Stephen Bickers\n(434) 906-8378 \nSecretary: Sue Tallon\nEmail Sue \n\nVeterinarian: Caroline Leeth\, DVM\n(540) 750-6849  \nFarrier: Donny Johnston\n(540) 569-0715  \n\nJudges: Kerry Kocher • Heather Squires\nSteward: Kathryn Meadows\nCourse Designer: Chris Wynne \n\n\n\n			\n	\n	\n				\n					\n	\n\n			\n					\n						Download Prize List
URL:https://vahorsecenter.org/event/virginia-horse-center-starter-trials-2/
LOCATION:VA
END:VEVENT
BEGIN:VEVENT
DTSTART;TZID=America/New_York:20260816T000000
DTEND;TZID=America/New_York:20260816T000000
DTSTAMP:20260420T213355
CREATED:20251201T182652Z
LAST-MODIFIED:20251201T191153Z
UID:10000185-1786838400-1786838400@vahorsecenter.org
SUMMARY:Thoroughbred Heritage Horse Show
DESCRIPTION:Big thanks to our presenting sponsor:\nBoone Tractor\n  \nShow Office (during show): (540) 464-2962  \nStable Office (bedding orders): (540) 464-2966  \nShow Manager: Steven Shank  \nAssistant Manager / Stall Manager: Stephen Bickers\n(434) 906-8378 \nSecretary: Sue Tallon\nEmail Sue \n\nVeterinarian: Caroline Leeth\, DVM\n(540) 750-6849  \nFarrier: Donny Johnston\n(540) 569-0715  \n\nJudges: Kerry Kocher • Heather Squires\nSteward: Kathryn Meadows\nCourse Designer: Chris Wynne \n\n\n\n			\n	\n	\n				\n					\n	\n\n			\n					\n						Download Prize List
URL:https://vahorsecenter.org/event/thoroughbred-heritage-horse-show-2/
LOCATION:VA
END:VEVENT
BEGIN:VEVENT
DTSTART;VALUE=DATE:20260821
DTEND;VALUE=DATE:20260824
DTSTAMP:20260420T213356
CREATED:20260320T165603Z
LAST-MODIFIED:20260320T165603Z
UID:10000222-1787270400-1787529599@vahorsecenter.org
SUMMARY:The Virginia Young Horse Festival
DESCRIPTION:Big thanks to our presenting sponsor:\nBoone Tractor\n  \nShow Office (during show): (540) 464-2962  \nStable Office (bedding orders): (540) 464-2966  \nShow Manager: Steven Shank  \nAssistant Manager / Stall Manager: Stephen Bickers\n(434) 906-8378 \nSecretary: Sue Tallon\nEmail Sue \n\nVeterinarian: Caroline Leeth\, DVM\n(540) 750-6849  \nFarrier: Donny Johnston\n(540) 569-0715  \n\nJudges: Kerry Kocher • Heather Squires\nSteward: Kathryn Meadows\nCourse Designer: Chris Wynne \n\n\n\n			\n	\n	\n				\n					\n	\n\n			\n					\n						Download Prize List
URL:https://vahorsecenter.org/event/the-virginia-young-horse-festival/
LOCATION:VA
CATEGORIES:2026 Event
END:VEVENT
BEGIN:VEVENT
DTSTART;VALUE=DATE:20260822
DTEND;VALUE=DATE:20260823
DTSTAMP:20260420T213356
CREATED:20250327T203330Z
LAST-MODIFIED:20260323T184003Z
UID:10000109-1787356800-1787443199@vahorsecenter.org
SUMMARY:2026 Sallie B. Wheeler USEF/USHJA National Hunter Breeding Championship
DESCRIPTION:Big thanks to our presenting sponsor:\nBoone Tractor\n  \nShow Office (during show): (540) 464-2962  \nStable Office (bedding orders): (540) 464-2966  \nShow Manager: Steven Shank  \nAssistant Manager / Stall Manager: Stephen Bickers\n(434) 906-8378 \nSecretary: Sue Tallon\nEmail Sue \n\nVeterinarian: Caroline Leeth\, DVM\n(540) 750-6849  \nFarrier: Donny Johnston\n(540) 569-0715  \n\nJudges: Kerry Kocher • Heather Squires\nSteward: Kathryn Meadows\nCourse Designer: Chris Wynne \n\n\n\n			\n	\n	\n				\n					\n	\n\n			\n					\n						Download Prize List
URL:https://vahorsecenter.org/event/2025-sallie-b-wheeler-usef-ushja-national-hunter-breeding-championship-2/
LOCATION:VA
CATEGORIES:2026 Event,Equestrian Event,Hunter/Jumper
END:VEVENT
BEGIN:VEVENT
DTSTART;VALUE=DATE:20260823
DTEND;VALUE=DATE:20260824
DTSTAMP:20260420T213356
CREATED:20250613T161426Z
LAST-MODIFIED:20260320T165424Z
UID:10000119-1787443200-1787529599@vahorsecenter.org
SUMMARY:USHJA Young Hunter Pony National Championship
DESCRIPTION:Big thanks to our presenting sponsor:\nBoone Tractor\n  \nShow Office (during show): (540) 464-2962  \nStable Office (bedding orders): (540) 464-2966  \nShow Manager: Steven Shank  \nAssistant Manager / Stall Manager: Stephen Bickers\n(434) 906-8378 \nSecretary: Sue Tallon\nEmail Sue \n\nVeterinarian: Caroline Leeth\, DVM\n(540) 750-6849  \nFarrier: Donny Johnston\n(540) 569-0715  \n\nJudges: Kerry Kocher • Heather Squires\nSteward: Kathryn Meadows\nCourse Designer: Chris Wynne \n\n\n\n			\n	\n	\n				\n					\n	\n\n			\n					\n						Download Prize List
URL:https://vahorsecenter.org/event/ushja-young-hunter-pony-national-championship/
LOCATION:VA
CATEGORIES:2026 Event,August,Equestrian Event,Hunter
END:VEVENT
BEGIN:VEVENT
DTSTART;TZID=America/New_York:20260829T000000
DTEND;TZID=America/New_York:20260829T000000
DTSTAMP:20260420T213356
CREATED:20251201T182706Z
LAST-MODIFIED:20251201T191654Z
UID:10000190-1787961600-1787961600@vahorsecenter.org
SUMMARY:Dairy Goat Society of Virginia
DESCRIPTION:Big thanks to our presenting sponsor:\nBoone Tractor\n  \nShow Office (during show): (540) 464-2962  \nStable Office (bedding orders): (540) 464-2966  \nShow Manager: Steven Shank  \nAssistant Manager / Stall Manager: Stephen Bickers\n(434) 906-8378 \nSecretary: Sue Tallon\nEmail Sue \n\nVeterinarian: Caroline Leeth\, DVM\n(540) 750-6849  \nFarrier: Donny Johnston\n(540) 569-0715  \n\nJudges: Kerry Kocher • Heather Squires\nSteward: Kathryn Meadows\nCourse Designer: Chris Wynne \n\n\n\n			\n	\n	\n				\n					\n	\n\n			\n					\n						Download Prize List
URL:https://vahorsecenter.org/event/dairy-goat-society-of-virginia/
LOCATION:VA
END:VEVENT
BEGIN:VEVENT
DTSTART;TZID=America/New_York:20260829T000000
DTEND;TZID=America/New_York:20260830T000000
DTSTAMP:20260420T213356
CREATED:20251201T182707Z
LAST-MODIFIED:20251201T182707Z
UID:10000191-1787961600-1788048000@vahorsecenter.org
SUMMARY:House Mountain Horse Show
DESCRIPTION:Big thanks to our presenting sponsor:\nBoone Tractor\n  \nShow Office (during show): (540) 464-2962  \nStable Office (bedding orders): (540) 464-2966  \nShow Manager: Steven Shank  \nAssistant Manager / Stall Manager: Stephen Bickers\n(434) 906-8378 \nSecretary: Sue Tallon\nEmail Sue \n\nVeterinarian: Caroline Leeth\, DVM\n(540) 750-6849  \nFarrier: Donny Johnston\n(540) 569-0715  \n\nJudges: Kerry Kocher • Heather Squires\nSteward: Kathryn Meadows\nCourse Designer: Chris Wynne \n\n\n\n			\n	\n	\n				\n					\n	\n\n			\n					\n						Download Prize List
URL:https://vahorsecenter.org/event/house-mountain-horse-show-3/
LOCATION:VA
END:VEVENT
BEGIN:VEVENT
DTSTART;TZID=America/New_York:20260903T000000
DTEND;TZID=America/New_York:20260906T000000
DTSTAMP:20260420T213356
CREATED:20251201T182708Z
LAST-MODIFIED:20251201T182708Z
UID:10000192-1788393600-1788652800@vahorsecenter.org
SUMMARY:VA State 4-H Championship Horse & Pony Show
DESCRIPTION:Big thanks to our presenting sponsor:\nBoone Tractor\n  \nShow Office (during show): (540) 464-2962  \nStable Office (bedding orders): (540) 464-2966  \nShow Manager: Steven Shank  \nAssistant Manager / Stall Manager: Stephen Bickers\n(434) 906-8378 \nSecretary: Sue Tallon\nEmail Sue \n\nVeterinarian: Caroline Leeth\, DVM\n(540) 750-6849  \nFarrier: Donny Johnston\n(540) 569-0715  \n\nJudges: Kerry Kocher • Heather Squires\nSteward: Kathryn Meadows\nCourse Designer: Chris Wynne \n\n\n\n			\n	\n	\n				\n					\n	\n\n			\n					\n						Download Prize List
URL:https://vahorsecenter.org/event/va-state-4-h-championship-horse-pony-show-2/
LOCATION:VA
END:VEVENT
BEGIN:VEVENT
DTSTART;TZID=America/New_York:20260910T000000
DTEND;TZID=America/New_York:20260913T000000
DTSTAMP:20260420T213356
CREATED:20251201T182719Z
LAST-MODIFIED:20251201T182719Z
UID:10000193-1788998400-1789257600@vahorsecenter.org
SUMMARY:Rockbridge Regional Fair and Expo
DESCRIPTION:Big thanks to our presenting sponsor:\nBoone Tractor\n  \nShow Office (during show): (540) 464-2962  \nStable Office (bedding orders): (540) 464-2966  \nShow Manager: Steven Shank  \nAssistant Manager / Stall Manager: Stephen Bickers\n(434) 906-8378 \nSecretary: Sue Tallon\nEmail Sue \n\nVeterinarian: Caroline Leeth\, DVM\n(540) 750-6849  \nFarrier: Donny Johnston\n(540) 569-0715  \n\nJudges: Kerry Kocher • Heather Squires\nSteward: Kathryn Meadows\nCourse Designer: Chris Wynne \n\n\n\n			\n	\n	\n				\n					\n	\n\n			\n					\n						Download Prize List
URL:https://vahorsecenter.org/event/rockbridge-regional-fair-and-expo/
LOCATION:VA
END:VEVENT
BEGIN:VEVENT
DTSTART;TZID=America/New_York:20260911T000000
DTEND;TZID=America/New_York:20260913T000000
DTSTAMP:20260420T213356
CREATED:20251201T182720Z
LAST-MODIFIED:20251201T182720Z
UID:10000194-1789084800-1789257600@vahorsecenter.org
SUMMARY:Virginia Paint Horse Show
DESCRIPTION:Big thanks to our presenting sponsor:\nBoone Tractor\n  \nShow Office (during show): (540) 464-2962  \nStable Office (bedding orders): (540) 464-2966  \nShow Manager: Steven Shank  \nAssistant Manager / Stall Manager: Stephen Bickers\n(434) 906-8378 \nSecretary: Sue Tallon\nEmail Sue \n\nVeterinarian: Caroline Leeth\, DVM\n(540) 750-6849  \nFarrier: Donny Johnston\n(540) 569-0715  \n\nJudges: Kerry Kocher • Heather Squires\nSteward: Kathryn Meadows\nCourse Designer: Chris Wynne \n\n\n\n			\n	\n	\n				\n					\n	\n\n			\n					\n						Download Prize List
URL:https://vahorsecenter.org/event/virginia-paint-horse-show-2/
LOCATION:VA
END:VEVENT
BEGIN:VEVENT
DTSTART;TZID=America/New_York:20260912T000000
DTEND;TZID=America/New_York:20260913T000000
DTSTAMP:20260420T213356
CREATED:20251201T182721Z
LAST-MODIFIED:20251201T182721Z
UID:10000195-1789171200-1789257600@vahorsecenter.org
SUMMARY:House Mountain Horse Show
DESCRIPTION:Big thanks to our presenting sponsor:\nBoone Tractor\n  \nShow Office (during show): (540) 464-2962  \nStable Office (bedding orders): (540) 464-2966  \nShow Manager: Steven Shank  \nAssistant Manager / Stall Manager: Stephen Bickers\n(434) 906-8378 \nSecretary: Sue Tallon\nEmail Sue \n\nVeterinarian: Caroline Leeth\, DVM\n(540) 750-6849  \nFarrier: Donny Johnston\n(540) 569-0715  \n\nJudges: Kerry Kocher • Heather Squires\nSteward: Kathryn Meadows\nCourse Designer: Chris Wynne \n\n\n\n			\n	\n	\n				\n					\n	\n\n			\n					\n						Download Prize List
URL:https://vahorsecenter.org/event/house-mountain-horse-show-4/
LOCATION:VA
END:VEVENT
BEGIN:VEVENT
DTSTART;TZID=America/New_York:20260918T000000
DTEND;TZID=America/New_York:20260920T000000
DTSTAMP:20260420T213356
CREATED:20251201T182722Z
LAST-MODIFIED:20251201T182722Z
UID:10000196-1789689600-1789862400@vahorsecenter.org
SUMMARY:Virginia State Barrel Finals
DESCRIPTION:Big thanks to our presenting sponsor:\nBoone Tractor\n  \nShow Office (during show): (540) 464-2962  \nStable Office (bedding orders): (540) 464-2966  \nShow Manager: Steven Shank  \nAssistant Manager / Stall Manager: Stephen Bickers\n(434) 906-8378 \nSecretary: Sue Tallon\nEmail Sue \n\nVeterinarian: Caroline Leeth\, DVM\n(540) 750-6849  \nFarrier: Donny Johnston\n(540) 569-0715  \n\nJudges: Kerry Kocher • Heather Squires\nSteward: Kathryn Meadows\nCourse Designer: Chris Wynne \n\n\n\n			\n	\n	\n				\n					\n	\n\n			\n					\n						Download Prize List
URL:https://vahorsecenter.org/event/virginia-state-barrel-finals-2/
LOCATION:VA
END:VEVENT
BEGIN:VEVENT
DTSTART;TZID=America/New_York:20260919T000000
DTEND;TZID=America/New_York:20260919T000000
DTSTAMP:20260420T213356
CREATED:20251201T182723Z
LAST-MODIFIED:20251201T191745Z
UID:10000197-1789776000-1789776000@vahorsecenter.org
SUMMARY:Corn Hole Tournament
DESCRIPTION:Big thanks to our presenting sponsor:\nBoone Tractor\n  \nShow Office (during show): (540) 464-2962  \nStable Office (bedding orders): (540) 464-2966  \nShow Manager: Steven Shank  \nAssistant Manager / Stall Manager: Stephen Bickers\n(434) 906-8378 \nSecretary: Sue Tallon\nEmail Sue \n\nVeterinarian: Caroline Leeth\, DVM\n(540) 750-6849  \nFarrier: Donny Johnston\n(540) 569-0715  \n\nJudges: Kerry Kocher • Heather Squires\nSteward: Kathryn Meadows\nCourse Designer: Chris Wynne \n\n\n\n			\n	\n	\n				\n					\n	\n\n			\n					\n						Download Prize List
URL:https://vahorsecenter.org/event/corn-hole-tournament-2/
LOCATION:VA
END:VEVENT
BEGIN:VEVENT
DTSTART;TZID=America/New_York:20260923T000000
DTEND;TZID=America/New_York:20260926T000000
DTSTAMP:20260420T213356
CREATED:20251201T182734Z
LAST-MODIFIED:20251201T182734Z
UID:10000198-1790121600-1790380800@vahorsecenter.org
SUMMARY:American Saddlebred Horse Association of Virginia Horse Show
DESCRIPTION:Big thanks to our presenting sponsor:\nBoone Tractor\n  \nShow Office (during show): (540) 464-2962  \nStable Office (bedding orders): (540) 464-2966  \nShow Manager: Steven Shank  \nAssistant Manager / Stall Manager: Stephen Bickers\n(434) 906-8378 \nSecretary: Sue Tallon\nEmail Sue \n\nVeterinarian: Caroline Leeth\, DVM\n(540) 750-6849  \nFarrier: Donny Johnston\n(540) 569-0715  \n\nJudges: Kerry Kocher • Heather Squires\nSteward: Kathryn Meadows\nCourse Designer: Chris Wynne \n\n\n\n			\n	\n	\n				\n					\n	\n\n			\n					\n						Download Prize List
URL:https://vahorsecenter.org/event/american-saddlebred-horse-association-of-virginia-horse-show/
LOCATION:VA
END:VEVENT
BEGIN:VEVENT
DTSTART;TZID=America/New_York:20261001T000000
DTEND;TZID=America/New_York:20261004T000000
DTSTAMP:20260420T213356
CREATED:20251201T182735Z
LAST-MODIFIED:20251201T182735Z
UID:10000199-1790812800-1791072000@vahorsecenter.org
SUMMARY:Virginia Dressage Association
DESCRIPTION:Big thanks to our presenting sponsor:\nBoone Tractor\n  \nShow Office (during show): (540) 464-2962  \nStable Office (bedding orders): (540) 464-2966  \nShow Manager: Steven Shank  \nAssistant Manager / Stall Manager: Stephen Bickers\n(434) 906-8378 \nSecretary: Sue Tallon\nEmail Sue \n\nVeterinarian: Caroline Leeth\, DVM\n(540) 750-6849  \nFarrier: Donny Johnston\n(540) 569-0715  \n\nJudges: Kerry Kocher • Heather Squires\nSteward: Kathryn Meadows\nCourse Designer: Chris Wynne \n\n\n\n			\n	\n	\n				\n					\n	\n\n			\n					\n						Download Prize List
URL:https://vahorsecenter.org/event/virginia-dressage-association/
LOCATION:VA
END:VEVENT
BEGIN:VEVENT
DTSTART;TZID=America/New_York:20261008T000000
DTEND;TZID=America/New_York:20261010T000000
DTSTAMP:20260420T213356
CREATED:20251201T182737Z
LAST-MODIFIED:20251201T182737Z
UID:10000200-1791417600-1791590400@vahorsecenter.org
SUMMARY:Friesian Grand Nationals
DESCRIPTION:Big thanks to our presenting sponsor:\nBoone Tractor\n  \nShow Office (during show): (540) 464-2962  \nStable Office (bedding orders): (540) 464-2966  \nShow Manager: Steven Shank  \nAssistant Manager / Stall Manager: Stephen Bickers\n(434) 906-8378 \nSecretary: Sue Tallon\nEmail Sue \n\nVeterinarian: Caroline Leeth\, DVM\n(540) 750-6849  \nFarrier: Donny Johnston\n(540) 569-0715  \n\nJudges: Kerry Kocher • Heather Squires\nSteward: Kathryn Meadows\nCourse Designer: Chris Wynne \n\n\n\n			\n	\n	\n				\n					\n	\n\n			\n					\n						Download Prize List
URL:https://vahorsecenter.org/event/friesian-grand-nationals/
LOCATION:VA
END:VEVENT
BEGIN:VEVENT
DTSTART;TZID=America/New_York:20261008T000000
DTEND;TZID=America/New_York:20261011T000000
DTSTAMP:20260420T213356
CREATED:20251201T182738Z
LAST-MODIFIED:20251201T182738Z
UID:10000201-1791417600-1791676800@vahorsecenter.org
SUMMARY:North American Suffolk Horse Association Annual Meeting
DESCRIPTION:Big thanks to our presenting sponsor:\nBoone Tractor\n  \nShow Office (during show): (540) 464-2962  \nStable Office (bedding orders): (540) 464-2966  \nShow Manager: Steven Shank  \nAssistant Manager / Stall Manager: Stephen Bickers\n(434) 906-8378 \nSecretary: Sue Tallon\nEmail Sue \n\nVeterinarian: Caroline Leeth\, DVM\n(540) 750-6849  \nFarrier: Donny Johnston\n(540) 569-0715  \n\nJudges: Kerry Kocher • Heather Squires\nSteward: Kathryn Meadows\nCourse Designer: Chris Wynne \n\n\n\n			\n	\n	\n				\n					\n	\n\n			\n					\n						Download Prize List
URL:https://vahorsecenter.org/event/north-american-suffolk-horse-association-annual-meeting/
LOCATION:VA
END:VEVENT
BEGIN:VEVENT
DTSTART;VALUE=DATE:20261010
DTEND;VALUE=DATE:20261012
DTSTAMP:20260420T213356
CREATED:20251201T182739Z
LAST-MODIFIED:20260131T135026Z
UID:10000202-1791590400-1791763199@vahorsecenter.org
SUMMARY:Fox Run Horse Show
DESCRIPTION:Big thanks to our presenting sponsor:\nBoone Tractor\n  \nShow Office (during show): (540) 464-2962  \nStable Office (bedding orders): (540) 464-2966  \nShow Manager: Steven Shank  \nAssistant Manager / Stall Manager: Stephen Bickers\n(434) 906-8378 \nSecretary: Sue Tallon\nEmail Sue \n\nVeterinarian: Caroline Leeth\, DVM\n(540) 750-6849  \nFarrier: Donny Johnston\n(540) 569-0715  \n\nJudges: Kerry Kocher • Heather Squires\nSteward: Kathryn Meadows\nCourse Designer: Chris Wynne \n\n\n\n			\n	\n	\n				\n					\n	\n\n			\n					\n						Download Prize List
URL:https://vahorsecenter.org/event/hunter-jumper-show-tbd-2/
LOCATION:VA
CATEGORIES:2026 Event
END:VEVENT
BEGIN:VEVENT
DTSTART;VALUE=DATE:20261013
DTEND;VALUE=DATE:20261016
DTSTAMP:20260420T213356
CREATED:20260131T135151Z
LAST-MODIFIED:20260131T135158Z
UID:10000221-1791849600-1792108799@vahorsecenter.org
SUMMARY:Blue Ridge Cluster St. Bernard Dog Show
DESCRIPTION:Big thanks to our presenting sponsor:\nBoone Tractor\n  \nShow Office (during show): (540) 464-2962  \nStable Office (bedding orders): (540) 464-2966  \nShow Manager: Steven Shank  \nAssistant Manager / Stall Manager: Stephen Bickers\n(434) 906-8378 \nSecretary: Sue Tallon\nEmail Sue \n\nVeterinarian: Caroline Leeth\, DVM\n(540) 750-6849  \nFarrier: Donny Johnston\n(540) 569-0715  \n\nJudges: Kerry Kocher • Heather Squires\nSteward: Kathryn Meadows\nCourse Designer: Chris Wynne \n\n\n\n			\n	\n	\n				\n					\n	\n\n			\n					\n						Download Prize List
URL:https://vahorsecenter.org/event/blue-ridge-cluster-dog-show/
LOCATION:VA
CATEGORIES:2026 Event
END:VEVENT
BEGIN:VEVENT
DTSTART;TZID=America/New_York:20261016T000000
DTEND;TZID=America/New_York:20261018T000000
DTSTAMP:20260420T213356
CREATED:20251201T182749Z
LAST-MODIFIED:20251201T182749Z
UID:10000203-1792108800-1792281600@vahorsecenter.org
SUMMARY:JM Equine Barrel Race
DESCRIPTION:Big thanks to our presenting sponsor:\nBoone Tractor\n  \nShow Office (during show): (540) 464-2962  \nStable Office (bedding orders): (540) 464-2966  \nShow Manager: Steven Shank  \nAssistant Manager / Stall Manager: Stephen Bickers\n(434) 906-8378 \nSecretary: Sue Tallon\nEmail Sue \n\nVeterinarian: Caroline Leeth\, DVM\n(540) 750-6849  \nFarrier: Donny Johnston\n(540) 569-0715  \n\nJudges: Kerry Kocher • Heather Squires\nSteward: Kathryn Meadows\nCourse Designer: Chris Wynne \n\n\n\n			\n	\n	\n				\n					\n	\n\n			\n					\n						Download Prize List
URL:https://vahorsecenter.org/event/jm-equine-barrel-race-3/
LOCATION:VA
END:VEVENT
BEGIN:VEVENT
DTSTART;TZID=America/New_York:20261017T000000
DTEND;TZID=America/New_York:20261017T000000
DTSTAMP:20260420T213356
CREATED:20251201T182750Z
LAST-MODIFIED:20251201T191823Z
UID:10000204-1792195200-1792195200@vahorsecenter.org
SUMMARY:Goose Creek Hunter Jumper Horse Show
DESCRIPTION:Big thanks to our presenting sponsor:\nBoone Tractor\n  \nShow Office (during show): (540) 464-2962  \nStable Office (bedding orders): (540) 464-2966  \nShow Manager: Steven Shank  \nAssistant Manager / Stall Manager: Stephen Bickers\n(434) 906-8378 \nSecretary: Sue Tallon\nEmail Sue \n\nVeterinarian: Caroline Leeth\, DVM\n(540) 750-6849  \nFarrier: Donny Johnston\n(540) 569-0715  \n\nJudges: Kerry Kocher • Heather Squires\nSteward: Kathryn Meadows\nCourse Designer: Chris Wynne \n\n\n\n			\n	\n	\n				\n					\n	\n\n			\n					\n						Download Prize List
URL:https://vahorsecenter.org/event/goose-creek-hunter-jumper-horse-show-3/
LOCATION:VA
END:VEVENT
BEGIN:VEVENT
DTSTART;TZID=America/New_York:20261021T000000
DTEND;TZID=America/New_York:20261025T000000
DTSTAMP:20260420T213356
CREATED:20251201T182752Z
LAST-MODIFIED:20251201T182752Z
UID:10000206-1792540800-1792886400@vahorsecenter.org
SUMMARY:Southwest Virginia Hunter Jumper Association Show
DESCRIPTION:Big thanks to our presenting sponsor:\nBoone Tractor\n  \nShow Office (during show): (540) 464-2962  \nStable Office (bedding orders): (540) 464-2966  \nShow Manager: Steven Shank  \nAssistant Manager / Stall Manager: Stephen Bickers\n(434) 906-8378 \nSecretary: Sue Tallon\nEmail Sue \n\nVeterinarian: Caroline Leeth\, DVM\n(540) 750-6849  \nFarrier: Donny Johnston\n(540) 569-0715  \n\nJudges: Kerry Kocher • Heather Squires\nSteward: Kathryn Meadows\nCourse Designer: Chris Wynne \n\n\n\n			\n	\n	\n				\n					\n	\n\n			\n					\n						Download Prize List
URL:https://vahorsecenter.org/event/southwest-virginia-hunter-jumper-association-show/
LOCATION:VA
END:VEVENT
BEGIN:VEVENT
DTSTART;TZID=America/New_York:20261029T000000
DTEND;TZID=America/New_York:20261029T000000
DTSTAMP:20260420T213356
CREATED:20251201T182754Z
LAST-MODIFIED:20251201T194009Z
UID:10000207-1793232000-1793232000@vahorsecenter.org
SUMMARY:Virginia Horse Center Eventing
DESCRIPTION:Big thanks to our presenting sponsor:\nBoone Tractor\n  \nShow Office (during show): (540) 464-2962  \nStable Office (bedding orders): (540) 464-2966  \nShow Manager: Steven Shank  \nAssistant Manager / Stall Manager: Stephen Bickers\n(434) 906-8378 \nSecretary: Sue Tallon\nEmail Sue \n\nVeterinarian: Caroline Leeth\, DVM\n(540) 750-6849  \nFarrier: Donny Johnston\n(540) 569-0715  \n\nJudges: Kerry Kocher • Heather Squires\nSteward: Kathryn Meadows\nCourse Designer: Chris Wynne \n\n\n\n			\n	\n	\n				\n					\n	\n\n			\n					\n						Download Prize List
URL:https://vahorsecenter.org/event/virginia-horse-center-eventing-4/
LOCATION:VA
END:VEVENT
BEGIN:VEVENT
DTSTART;TZID=America/New_York:20261101T000000
DTEND;TZID=America/New_York:20261101T000000
DTSTAMP:20260420T213356
CREATED:20251201T182804Z
LAST-MODIFIED:20251201T194448Z
UID:10000208-1793491200-1793491200@vahorsecenter.org
SUMMARY:Virginia Horse Center Eventing
DESCRIPTION:Big thanks to our presenting sponsor:\nBoone Tractor\n  \nShow Office (during show): (540) 464-2962  \nStable Office (bedding orders): (540) 464-2966  \nShow Manager: Steven Shank  \nAssistant Manager / Stall Manager: Stephen Bickers\n(434) 906-8378 \nSecretary: Sue Tallon\nEmail Sue \n\nVeterinarian: Caroline Leeth\, DVM\n(540) 750-6849  \nFarrier: Donny Johnston\n(540) 569-0715  \n\nJudges: Kerry Kocher • Heather Squires\nSteward: Kathryn Meadows\nCourse Designer: Chris Wynne \n\n\n\n			\n	\n	\n				\n					\n	\n\n			\n					\n						Download Prize List
URL:https://vahorsecenter.org/event/virginia-horse-center-eventing-5/
LOCATION:VA
END:VEVENT
BEGIN:VEVENT
DTSTART;TZID=America/New_York:20261105T000000
DTEND;TZID=America/New_York:20261108T000000
DTSTAMP:20260420T213356
CREATED:20251201T182806Z
LAST-MODIFIED:20251201T182806Z
UID:10000209-1793836800-1794096000@vahorsecenter.org
SUMMARY:Virginia Horse Show Association
DESCRIPTION:Big thanks to our presenting sponsor:\nBoone Tractor\n  \nShow Office (during show): (540) 464-2962  \nStable Office (bedding orders): (540) 464-2966  \nShow Manager: Steven Shank  \nAssistant Manager / Stall Manager: Stephen Bickers\n(434) 906-8378 \nSecretary: Sue Tallon\nEmail Sue \n\nVeterinarian: Caroline Leeth\, DVM\n(540) 750-6849  \nFarrier: Donny Johnston\n(540) 569-0715  \n\nJudges: Kerry Kocher • Heather Squires\nSteward: Kathryn Meadows\nCourse Designer: Chris Wynne \n\n\n\n			\n	\n	\n				\n					\n	\n\n			\n					\n						Download Prize List
URL:https://vahorsecenter.org/event/virginia-horse-show-association/
LOCATION:VA
END:VEVENT
BEGIN:VEVENT
DTSTART;TZID=America/New_York:20261120T000000
DTEND;TZID=America/New_York:20261122T000000
DTSTAMP:20260420T213356
CREATED:20251201T182808Z
LAST-MODIFIED:20251201T182808Z
UID:10000211-1795132800-1795305600@vahorsecenter.org
SUMMARY:AQHA Virginia Harvest Festival
DESCRIPTION:Big thanks to our presenting sponsor:\nBoone Tractor\n  \nShow Office (during show): (540) 464-2962  \nStable Office (bedding orders): (540) 464-2966  \nShow Manager: Steven Shank  \nAssistant Manager / Stall Manager: Stephen Bickers\n(434) 906-8378 \nSecretary: Sue Tallon\nEmail Sue \n\nVeterinarian: Caroline Leeth\, DVM\n(540) 750-6849  \nFarrier: Donny Johnston\n(540) 569-0715  \n\nJudges: Kerry Kocher • Heather Squires\nSteward: Kathryn Meadows\nCourse Designer: Chris Wynne \n\n\n\n			\n	\n	\n				\n					\n	\n\n			\n					\n						Download Prize List
URL:https://vahorsecenter.org/event/aqha-virginia-harvest-festival/
LOCATION:VA
END:VEVENT
END:VCALENDAR